BEGIN:VCALENDAR
PRODID:-//AddEvent Inc//AddEvent.com v1.7//EN
VERSION:2.0
BEGIN:VTIMEZONE
TZID:America/New_York
BEGIN:STANDARD
DTSTART:20261101T010000
RRULE:FREQ=YEARLY;BYDAY=1SU;BYMONTH=11
TZOFFSETFROM:-0400
TZOFFSETTO:-0500
TZNAME:EST
END:STANDARD
BEGIN:DAYLIGHT
DTSTART:20260308T030000
RRULE:FREQ=YEARLY;BYDAY=2SU;BYMONTH=3
TZOFFSETFROM:-0500
TZOFFSETTO:-0400
TZNAME:EDT
END:DAYLIGHT
END:VTIMEZONE
BEGIN:VEVENT
DESCRIPTION:The world’s premier sourcing event by Alibaba.com returns to Paris Hotel\, Las Vegas — Sep 4–5\, 2025 (Thu–Fri\, PT). Hear Brian Fried\, The Inventor Coach\, on stage alongside Lori Greiner and Daymond John. Network with 100+ industry leaders\, explore 200+ factories\, grab 20\,000+ free samples\, and learn practical steps to take your invention or business to the next level.<br data-start="662" data-end="665" />\nSave up to 20%: use code speaker20 (early-bird pricing from $199\; tiers up to VIP).<br data-start="756" data-end="759" />\nRSVP / Raffle: Comment in the Inventor Smart Community or email brian@inventorsmart.com to be entered for special passes (incl. VIP + hotel).<br data-start="908" data-end="911" />\nHighlights: AI sourcing tools\, speed networking (CoCreate Match)\, CoCreate Pitch finals ($1M prize pool)\, VIP gala nights\, hands-on sourcing labs.<br data-start="1061" data-end="1064" />\nLocation: Paris Hotel\, 3655 S Las Vegas Blvd\, Las Vegas\, NV 89109 (Ballrooms\; check event signage).<br data-start="1167" data-end="1170" />\nAttire: Smart casual\; bring business cards.<br data-start="1217" data-end="1220" />\nNotes: Add the Inventor Smart Mixer (Sep 4 evening) as a separate calendar item\; details TBA.<br data-start="1321" data-end="1324" />#CoCreate2025 #InventorSmart #NationalInventorClub
X-ALT-DESC;FMTTYPE=text/html:The world’s premier sourcing event by Alibaba.com returns to <strong data-end="348" data-start="322">Paris Hotel, Las Vegas</strong> — <strong data-end="382" data-start="351">Sep 4–5, 2025 (Thu–Fri, PT)</strong>. Hear <strong data-end="424" data-start="389">Brian Fried, The Inventor Coach</strong>, on stage alongside <strong data-end="461" data-start="445">Lori Greiner</strong> and <strong data-end="482" data-start="466">Daymond John</strong>. Network with <strong data-end="522" data-is-only-node="" data-start="497">100+ industry leaders</strong>, explore <strong data-end="550" data-start="532">200+ factories</strong>, grab <strong data-end="581" data-start="557">20,000+ free samples</strong>, and learn practical steps to take your invention or business to the next level.<br data-start="662" data-end="665" /><br /><strong data-end="684" data-start="665">Save up to 20%:</strong> use code <strong data-end="707" data-start="694">speaker20</strong> (early-bird pricing from $199; tiers up to VIP).<br data-start="756" data-end="759" /><br /><strong data-end="777" data-start="759">RSVP / Raffle:</strong> Comment in the Inventor Smart Community or email <strong data-end="854" data-start="827"><a data-end="852" data-start="829" rel="noopener">brian@inventorsmart.com</a></strong> to be entered for special passes (incl. VIP + hotel).<br data-start="908" data-end="911" /><br /><strong data-end="926" data-start="911">Highlights:</strong> AI sourcing tools, speed networking (CoCreate Match), CoCreate Pitch finals ($1M prize pool), VIP gala nights, hands-on sourcing labs.<br data-start="1061" data-end="1064" /><br /><strong data-end="1077" data-start="1064">Location:</strong> Paris Hotel, 3655 S Las Vegas Blvd, Las Vegas, NV 89109 (Ballrooms; check event signage).<br data-start="1167" data-end="1170" /><br /><strong data-end="1181" data-start="1170">Attire:</strong> Smart casual; bring business cards.<br data-start="1217" data-end="1220" /><br /><strong data-end="1230" data-start="1220">Notes:</strong> Add the <strong data-end="1263" data-start="1239">Inventor Smart Mixer</strong> (Sep 4 evening) as a separate calendar item; details TBA.<br data-start="1321" data-end="1324" />#CoCreate2025 #InventorSmart #NationalInventorClub
UID:1776826499addeventcom
SUMMARY:CoCreate 2025 (Las Vegas) — Brian Fried on Stage w/ Lori Greiner & Daymond John
DTSTART;TZID=America/New_York:20250904T080000
DTEND;TZID=America/New_York:20250905T080000
DTSTAMP:20260422T025459Z
TRANSP:OPAQUE
STATUS:CONFIRMED
SEQUENCE:0
LOCATION:Paris Hotel\, Las Vegas\, USA
X-MICROSOFT-CDO-BUSYSTATUS:BUSY
BEGIN:VALARM
TRIGGER:-PT30M
ACTION:DISPLAY
DESCRIPTION:Reminder
END:VALARM
END:VEVENT
END:VCALENDAR