BEGIN:VCALENDAR
PRODID:-//AddEvent Inc//AddEvent.com v1.7//EN
VERSION:2.0
BEGIN:VTIMEZONE
TZID:America/Toronto
BEGIN:STANDARD
DTSTART:20261101T010000
RRULE:FREQ=YEARLY;BYDAY=1SU;BYMONTH=11
TZOFFSETFROM:-0400
TZOFFSETTO:-0500
TZNAME:EST
END:STANDARD
BEGIN:DAYLIGHT
DTSTART:20260308T030000
RRULE:FREQ=YEARLY;BYDAY=2SU;BYMONTH=3
TZOFFSETFROM:-0500
TZOFFSETTO:-0400
TZNAME:EDT
END:DAYLIGHT
END:VTIMEZONE
BEGIN:VEVENT
DESCRIPTION:\n73% des équipes épuisées dès septembre ⚡\n Une stat qui fait froid dans le dos !\n\nEt la plupart des leaders font la même erreur : ils rajoutent des objectifs.\n\nRésultat ? Leurs managers craquent avant octobre.\n\nDans ce webinaire\, je révèle comment j'ai aidé un VP à réaligner son équipe en 100 jours... sans fixer un seul nouvel objectif.\n\nMercredi 10 septembre à midi\, je vous dévoilerai :\n\n✅ Comment identifier vos micro-frictions en 10 minutes\n\n✅ La méthode 1-3-90 (le guide sera offert aux participants) - l'anti-to-do-list qui change tout\n\n✅ Pourquoi la Loi 27 peut devenir votre boussole stratégique\n\nRésultat? Vous serez mieux aligné pour débuter cette rentrée. \n Donc\, fini\n\n• les soirées pourries où vous vous demandez « qu'est-ce qu'on a avancé ? »\n• de vous sentir incompris par vos équipes. \n• l'angoisse faute de ne pas savoir où vous allez (ou pire\, d’aller dans la mauvaise direction!)\n\nUn seul lien pour ce webinaire : https://www.youtube.com/@ManonBlondin\n\nRéservez votre moment : mercredi 10 septembre à midi!\n\nAjouter à votre agenda\n\nApple https://www.addevent.com/event/tv26612553+apple  Google https://www.addevent.com/event/tv26612553+google  Office 365 https://www.addevent.com/event/tv26612553+office365  Outlook https://www.addevent.com/event/tv26612553+outlook  Outlook.com https://www.addevent.com/event/tv26612553+outlookcom  Yahoo https://www.addevent.com/event/tv26612553+yahoo\n\n\n\n------\n\nPowered by addevent.com \nShare your next event with us!\n
X-ALT-DESC;FMTTYPE=text/html:<br /><p style="margin-top:0cm;margin-right:0cm;margin-bottom:8.0pt;margin-left:0cm;line-height:115%;font-size:16px;">73% des équipes épuisées dès septembre <span>⚡<br /> </span>Une stat qui fait froid dans le dos !</p><p style="margin-top:0cm;margin-right:0cm;margin-bottom:8.0pt;margin-left:0cm;line-height:115%;font-size:16px;">Et la plupart des leaders font la même erreur : ils rajoutent des objectifs.</p><p style="margin-top:0cm;margin-right:0cm;margin-bottom:8.0pt;margin-left:0cm;line-height:115%;font-size:16px;">Résultat ? Leurs managers craquent avant octobre.</p><br /><p style="margin-top:0cm;margin-right:0cm;margin-bottom:8.0pt;margin-left:0cm;line-height:115%;font-size:16px;">Dans ce webinaire, je révèle comment j'ai aidé un VP à réaligner son équipe en 100 jours... <strong>sans fixer un seul nouvel objectif</strong>.</p><br /><p style="margin-top:0cm;margin-right:0cm;margin-bottom:8.0pt;margin-left:0cm;line-height:115%;font-size:16px;"><strong>Mercredi 10 septembre à midi</strong>, je vous dévoilerai :</p><p style="margin-top:0cm;margin-right:0cm;margin-bottom:8.0pt;margin-left:0cm;line-height:115%;font-size:16px;"><span>✅</span> Comment identifier vos micro-frictions en 10 minutes</p><p style="margin-top:0cm;margin-right:0cm;margin-bottom:8.0pt;margin-left:0cm;line-height:115%;font-size:16px;"><span>✅</span> La méthode 1-3-90 (le guide sera offert aux participants) - l'anti-to-do-list qui change tout</p><p style="margin-top:0cm;margin-right:0cm;margin-bottom:8.0pt;margin-left:0cm;line-height:115%;font-size:16px;"><span>✅</span> Pourquoi la Loi 27 peut devenir votre boussole stratégique</p><br /><p style="margin-top:0cm;margin-right:0cm;margin-bottom:8.0pt;margin-left:0cm;line-height:115%;font-size:16px;"><strong>Résultat? </strong>Vous serez mieux aligné pour débuter cette rentrée. <br /> <strong>Donc, fini</strong></p><ul style="list-style-type: disc;margin-left:undefined;"><li><strong>les soirées pourries</strong> où vous vous demandez « qu'est-ce qu'on a avancé ? »</li><li><strong>de vous sentir incompris</strong> par vos équipes. </li><li><strong>l'angoisse </strong>faute de ne pas savoir où vous allez (ou pire, d’aller dans la mauvaise direction!)</li></ul><p style="margin-top:0cm;margin-right:0cm;margin-bottom:8.0pt;margin-left:0cm;line-height:115%;font-size:16px;font-family:"><br /></p><p style="margin-top:0cm;margin-right:0cm;margin-bottom:8.0pt;margin-left:0cm;line-height:115%;font-size:16px;font-family:"><strong>Un seul lien pour ce webinaire : <a href="https://www.youtube.com/@ManonBlondin">https://www.youtube.com/@ManonBlondin</a></strong></p><br /><p style="margin-top:0cm;margin-right:0cm;margin-bottom:8.0pt;margin-left:0cm;line-height:115%;font-size:16px;font-family:">Réservez votre moment : <strong>mercredi 10 septembre à midi!</strong></p><br /><p style="margin-top:0cm;margin-right:0cm;margin-bottom:8.0pt;margin-left:0cm;line-height:115%;font-size:16px;font-family:"><strong>Ajouter à votre agenda</strong></p><p style="margin-top:0cm;margin-right:0cm;margin-bottom:8.0pt;margin-left:0cm;line-height:115%;font-size:16px;font-family:"><a href="https://www.addevent.com/event/tv26612553+apple" target="_blank" title="Apple">Apple</a>  <a href="https://www.addevent.com/event/tv26612553+google" target="_blank" title="Google">Google</a>  <a href="https://www.addevent.com/event/tv26612553+office365" target="_blank" title="Office 365">Office 365</a>  <a href="https://www.addevent.com/event/tv26612553+outlook" target="_blank" title="Outlook">Outlook</a>  <a href="https://www.addevent.com/event/tv26612553+outlookcom" target="_blank" title="Outlook.com">Outlook.com</a>  <a href="https://www.addevent.com/event/tv26612553+yahoo" target="_blank" title="Yahoo">Yahoo</a></p><br /><br />------<br /><br />Powered by addevent.com <br>Share your next event with us!<br>
UID:1776941306addeventcom
SUMMARY:Je lunche avec ma coach: Enfin\, la rentrée !
DTSTART;TZID=America/Toronto:20250910T120000
DTEND;TZID=America/Toronto:20250910T123000
DTSTAMP:20260423T104826Z
TRANSP:OPAQUE
STATUS:CONFIRMED
SEQUENCE:0
LOCATION:https://www.youtube.com/@ManonBlondin
X-MICROSOFT-CDO-BUSYSTATUS:BUSY
BEGIN:VALARM
TRIGGER:-PT30M
ACTION:DISPLAY
DESCRIPTION:Reminder
END:VALARM
END:VEVENT
END:VCALENDAR