BEGIN:VCALENDAR
PRODID:-//AddEvent Inc//AddEvent.com v1.7//EN
VERSION:2.0
BEGIN:VTIMEZONE
TZID:America/New_York
BEGIN:STANDARD
DTSTART:20261101T010000
RRULE:FREQ=YEARLY;BYDAY=1SU;BYMONTH=11
TZOFFSETFROM:-0400
TZOFFSETTO:-0500
TZNAME:EST
END:STANDARD
BEGIN:DAYLIGHT
DTSTART:20260308T030000
RRULE:FREQ=YEARLY;BYDAY=2SU;BYMONTH=3
TZOFFSETFROM:-0500
TZOFFSETTO:-0400
TZNAME:EDT
END:DAYLIGHT
END:VTIMEZONE
BEGIN:VEVENT
DESCRIPTION:Dates & Time: September 9–10\, 2025 | 1:00 – 3:30 PM ET (both days)<br data-start="265" data-end="268" />Location: Virtual (hosted by USPTO) | Free Event\n\nJoin the USPTO’s flagship conference for inventors\, makers\, and entrepreneurs — Invention-Con 2025: Empowering American ingenuity and innovation.\n\nWhy Attend:\n\n• Learn from accomplished innovators\, entrepreneurs\, and IP experts\n\n• Discover resources to support every stage of your inventor journey\n\n• Gain strategies to protect your ideas and turn them into market-ready products\n\n• Connect directly with experts during interactive Ask the Experts breakout sessions\n\nAgenda Highlights:<br data-start="835" data-end="838" />Day 1 (Sep 9): Fireside Chat\, creativity strategies\, brand building\, and “Ask the Experts”<br data-start="932" data-end="935" />Day 2 (Sep 10): Personal branding\, investor insights\, innovation panel\, and “Ask the Experts”\n\nCost: Free | Open to all inventors\, small business owners & entrepreneurs<br data-start="1113" data-end="1116" />More Info & Registration: USPTO Invention-Con 2025 https://www.uspto.gov/about-us/events/invention-con-2025-empowering-american-ingenuity-and-innovation?utm_source=chatgpt.com<br data-start="1275" data-end="1278" />Contact: inventioncon@uspto.gov\n\nAccessibility accommodations available upon request.\n\n
X-ALT-DESC;FMTTYPE=text/html:<p data-end="322" data-start="195"><strong data-end="212" data-start="195">Dates &amp; Time:</strong> September 9–10, 2025 | 1:00 – 3:30 PM ET (both days)<br data-start="265" data-end="268" /><strong data-end="281" data-start="268">Location:</strong> Virtual (hosted by USPTO) | Free Event</p><p data-end="477" data-start="324">Join the <strong data-end="405" data-start="333">USPTO’s flagship conference for inventors, makers, and entrepreneurs</strong> — Invention-Con 2025: <em data-end="475" data-start="428">Empowering American ingenuity and innovation.</em></p><p data-end="496" data-start="479"><strong data-end="494" data-start="479">Why Attend:</strong></p><ul data-end="811" data-start="497"><li data-end="566" data-start="497"><p data-end="566" data-start="499">Learn from accomplished innovators, entrepreneurs, and IP experts</p></li><li data-end="637" data-start="567"><p data-end="637" data-start="569">Discover resources to support every stage of your inventor journey</p></li><li data-end="720" data-start="638"><p data-end="720" data-start="640">Gain strategies to protect your ideas and turn them into market-ready products</p></li><li data-end="811" data-start="721"><p data-end="811" data-start="723">Connect directly with experts during interactive <strong data-end="791" data-start="772">Ask the Experts</strong> breakout sessions</p></li></ul><p data-end="1034" data-start="813"><strong data-end="835" data-start="813">Agenda Highlights:</strong><br data-start="835" data-end="838" /><strong data-end="856" data-start="838">Day 1 (Sep 9):</strong> Fireside Chat, creativity strategies, brand building, and “Ask the Experts”<br data-start="932" data-end="935" /><strong data-end="954" data-start="935">Day 2 (Sep 10):</strong> Personal branding, investor insights, innovation panel, and “Ask the Experts”</p><p data-end="1315" data-start="1036"><strong data-end="1045" data-start="1036">Cost:</strong> Free | Open to all inventors, small business owners &amp; entrepreneurs<br data-start="1113" data-end="1116" /><strong data-end="1145" data-start="1116">More Info &amp; Registration:</strong> <a data-end="1275" data-start="1146" href="https://www.uspto.gov/about-us/events/invention-con-2025-empowering-american-ingenuity-and-innovation?utm_source=chatgpt.com" rel="noopener" target="_new">USPTO Invention-Con 2025</a><br data-start="1275" data-end="1278" /><strong data-end="1290" data-start="1278">Contact:</strong> <a data-end="1313" data-start="1291" rel="noopener">inventioncon@uspto.gov</a></p><p data-end="1371" data-start="1317">Accessibility accommodations available upon request.</p>
UID:1776826578addeventcom
SUMMARY:Invention-Con 2025: Empowering American Ingenuity & Innovation (USPTO Virtual Conference)
DTSTART;TZID=America/New_York:20250909T130000
DTEND;TZID=America/New_York:20250910T153000
DTSTAMP:20260422T025618Z
TRANSP:OPAQUE
STATUS:CONFIRMED
SEQUENCE:0
LOCATION:Online
X-MICROSOFT-CDO-BUSYSTATUS:BUSY
BEGIN:VALARM
TRIGGER:-PT30M
ACTION:DISPLAY
DESCRIPTION:Reminder
END:VALARM
END:VEVENT
END:VCALENDAR