BEGIN:VCALENDAR
PRODID:-//AddEvent Inc//AddEvent.com v1.7//EN
VERSION:2.0
BEGIN:VTIMEZONE
TZID:America/New_York
BEGIN:STANDARD
DTSTART:20261101T010000
RRULE:FREQ=YEARLY;BYDAY=1SU;BYMONTH=11
TZOFFSETFROM:-0400
TZOFFSETTO:-0500
TZNAME:EST
END:STANDARD
BEGIN:DAYLIGHT
DTSTART:20260308T030000
RRULE:FREQ=YEARLY;BYDAY=2SU;BYMONTH=3
TZOFFSETFROM:-0500
TZOFFSETTO:-0400
TZNAME:EDT
END:DAYLIGHT
END:VTIMEZONE
BEGIN:VEVENT
DESCRIPTION:Host: Samantha St. Raymond\nGuest: Melon Dash — founder of Miracle Swimming for Adults\, inventor\, author\nPowered by: Inventor Smart Community App & National Inventor Club\n\nHalf of U.S. adults can’t swim—and most say the real issue is fear\, not technique. In this episode\, inventor and educator Melon Dash shares her breakthrough framework—the Five Circles model of panic vs. presence—and how it helps adults become truly safe and comfortable in water before they ever learn strokes. She also demos her Learn-to-Float Station (float bar + safety tether) and talks about her patent-pending\, storm-smart “last fence you’ll ever need” concept inspired by Hurricane Milton.\n\nWhat you’ll learn\n\n- The Five Circles model: from calm → panic (and the mirror path of how real learning happens)\n- Why “learning to be in your body” makes you safe in deep water (strokes come later)\n- How the float bar + tether lets adults feel buoyancy safely—at home\, hotels\, and community pools\n- Kit details: float bar\, tether\, book + ebook\, videos\, podcast—$199 at Miracle Swimming\n- Applying the Five Circles beyond swimming: math anxiety\, test nerves\, everyday fear & procrastination\n- Teaser: Melon’s patent-pending hurricane-resilient fence (field tests coming)\n\nGuest Links\n\n- Miracle Swimming: https://miracleswimming.com\n- Book: Conquer Your Fear of Water (Amazon)\n- Book: Conquer Your Fear of the Triathlon Swim (Amazon)\n\nJoin the Community\n\n- Inventor Smart Community App: https://inventorsmart.com\n (find us in the Apple App Store & Google Play)\n- National Inventor Club: https://nationalinventorclub.com\n\nAbout Inventor Spotlight\n\nReal inventors. Real products. Real lessons. Each week\, host Samantha St. Raymond spotlights creators at every stage—from first sketch to store shelf—so you can learn what works (and what to avoid) on your inventor journey.\n\n
X-ALT-DESC;FMTTYPE=text/html:<p data-end="473" data-start="307">Host: Samantha St. Raymond<br />Guest: Melon Dash — founder of Miracle Swimming for Adults, inventor, author<br />Powered by: Inventor Smart Community App &amp; National Inventor Club<br><br>Half of U.S. adults can’t swim—and most say the real issue is fear, not technique. In this episode, inventor and educator Melon Dash shares her breakthrough framework—the Five Circles model of panic vs. presence—and how it helps adults become truly safe and comfortable in water before they ever learn strokes. She also demos her Learn-to-Float Station (float bar + safety tether) and talks about her patent-pending, storm-smart “last fence you’ll ever need” concept inspired by Hurricane Milton.<br><br>What you’ll learn<br><br>- The Five Circles model: from calm → panic (and the mirror path of how real learning happens)<br />- Why “learning to be in your body” makes you safe in deep water (strokes come later)<br />- How the float bar + tether lets adults feel buoyancy safely—at home, hotels, and community pools<br />- Kit details: float bar, tether, book + ebook, videos, podcast—$199 at Miracle Swimming<br />- Applying the Five Circles beyond swimming: math anxiety, test nerves, everyday fear &amp; procrastination<br />- Teaser: Melon’s patent-pending hurricane-resilient fence (field tests coming)<br><br>Guest Links<br><br>- Miracle Swimming: <a data-fr-linked="true" href="https://miracleswimming.com">https://miracleswimming.com</a><br />- Book: Conquer Your Fear of Water (Amazon)<br />- Book: Conquer Your Fear of the Triathlon Swim (Amazon)<br><br>Join the Community<br><br>- Inventor Smart Community App: <a data-fr-linked="true" href="https://inventorsmart.com">https://inventorsmart.com</a><br /> (find us in the Apple App Store &amp; Google Play)<br />- National Inventor Club: <a data-fr-linked="true" href="https://nationalinventorclub.com">https://nationalinventorclub.com</a><br><br>About Inventor Spotlight<br><br>Real inventors. Real products. Real lessons. Each week, host Samantha St. Raymond spotlights creators at every stage—from first sketch to store shelf—so you can learn what works (and what to avoid) on your inventor journey.</p>
UID:1776826476addeventcom
SUMMARY:Conquer Your Fear of Water — Inventor Melon Dash (Miracle Swimming) | Inventor Spotlight #18
DTSTART;TZID=America/New_York:20250905T100000
DTEND;TZID=America/New_York:20250905T110000
DTSTAMP:20260422T025436Z
TRANSP:OPAQUE
STATUS:CONFIRMED
SEQUENCE:0
LOCATION:https://youtube.com/playlist?list=PL1P8MhljNiS2Dz1sGmy_06u7JiQYrhODD&si=dSD-ysDh4wy722qd
X-MICROSOFT-CDO-BUSYSTATUS:BUSY
BEGIN:VALARM
TRIGGER:-PT30M
ACTION:DISPLAY
DESCRIPTION:Reminder
END:VALARM
END:VEVENT
END:VCALENDAR