BEGIN:VCALENDAR
PRODID:-//AddEvent Inc//AddEvent.com v1.7//EN
VERSION:2.0
BEGIN:VEVENT
DESCRIPTION:The Hair of the Dog online summit will be streamed in the Summit Facebook group. Replays will also be available until 9am the following morning at www.petphotographysummit.com/replay
X-ALT-DESC;FMTTYPE=text/html:The Hair of the Dog online summit will be streamed in the Summit Facebook group. Replays will also be available until 9am the following morning at www.petphotographysummit.com/replay
UID:1777139853addeventcom
SUMMARY:Hair of the Dog Summit
DTSTART;VALUE=DATE:20211102
DTEND;VALUE=DATE:20211105
DTSTAMP:20260425T175733Z
TRANSP:OPAQUE
STATUS:CONFIRMED
SEQUENCE:0
LOCATION:https://www.facebook.com/groups/572013394239385
X-MICROSOFT-CDO-BUSYSTATUS:BUSY
BEGIN:VALARM
TRIGGER:-PT30M
ACTION:DISPLAY
DESCRIPTION:Reminder
END:VALARM
END:VEVENT
END:VCALENDAR