BEGIN:VCALENDAR
PRODID:-//AddEvent Inc//AddEvent.com v1.7//EN
VERSION:2.0
BEGIN:VEVENT
DESCRIPTION:Exclusive real-time insights straight from InsureTech Connect 2024. Don't miss an update\, follow us on LinkedIn: https://www.linkedin.com/company/fivemllc. \n\n------\n\nPowered by addevent.com \nShare your next event with us!\n
X-ALT-DESC;FMTTYPE=text/html:Exclusive real-time insights straight from InsureTech Connect 2024. Don't miss an update, follow us on LinkedIn: <a data-fr-linked="true" href="https://www.linkedin.com/company/fivemllc">https://www.linkedin.com/company/fivemllc</a>. <br /><br />------<br /><br />Powered by addevent.com <br>Share your next event with us!<br>
UID:1776910636addeventcom
SUMMARY:🔥ITC 2024 : Real Time Insights From FiveM Consulting🔥
DTSTART;VALUE=DATE:20241015
DTEND;VALUE=DATE:20241018
DTSTAMP:20260423T021716Z
TRANSP:OPAQUE
STATUS:CONFIRMED
SEQUENCE:0
LOCATION:https://www.linkedin.com/company/fivemllc
X-MICROSOFT-CDO-BUSYSTATUS:BUSY
BEGIN:VALARM
TRIGGER:-PT30M
ACTION:DISPLAY
DESCRIPTION:Reminder
END:VALARM
END:VEVENT
END:VCALENDAR