BEGIN:VCALENDAR
PRODID:-//AddEvent Inc//AddEvent.com v1.7//EN
VERSION:2.0
BEGIN:VTIMEZONE
TZID:Europe/Madrid
BEGIN:STANDARD
DTSTART:20261025T020000
RRULE:FREQ=YEARLY;BYDAY=-1SU;BYMONTH=10
TZOFFSETFROM:+0200
TZOFFSETTO:+0100
TZNAME:CET
END:STANDARD
BEGIN:DAYLIGHT
DTSTART:20260329T030000
RRULE:FREQ=YEARLY;BYDAY=-1SU;BYMONTH=3
TZOFFSETFROM:+0100
TZOFFSETTO:+0200
TZNAME:CEST
END:DAYLIGHT
END:VTIMEZONE
BEGIN:VEVENT
DESCRIPTION:Since Einstein's suggestion in 1916 about the necessity of quantum theory of gravity\, this has been arguably among the most convoluted open problems in fundamental physics. Although the topic can be faced from different angles\, this course will emphasize black hole physics as an interesting infrared window into the mysterious ultraviolet properties of general relativity. We will review basic aspects of these objects and their thermodynamics and treat to formulate the information problem in modern terms by making use of quantum information theory tools. The problem in the context of AdS/CFT will also be studied and\, time permitting\, we will take a look at recent relevant results on the field.\n\n------\n\nPowered by addevent.com \nShare your next event with us!\n
X-ALT-DESC;FMTTYPE=text/html:Since Einstein's suggestion in 1916 about the necessity of quantum theory of gravity, this has been arguably among the most convoluted open problems in fundamental physics. Although the topic can be faced from different angles, this course will emphasize black hole physics as an interesting infrared window into the mysterious ultraviolet properties of general relativity. We will review basic aspects of these objects and their thermodynamics and treat to formulate the information problem in modern terms by making use of quantum information theory tools. The problem in the context of AdS/CFT will also be studied and, time permitting, we will take a look at recent relevant results on the field.<br /><br />------<br /><br />Powered by addevent.com <br>Share your next event with us!<br>
UID:1776874731addeventcom
SUMMARY:PhD course on Black Holes & Quantum Information
DTSTART;TZID=Europe/Madrid:20210713T100000
DTEND;TZID=Europe/Madrid:20210713T113000
DTSTAMP:20260422T161851Z
TRANSP:OPAQUE
STATUS:CONFIRMED
SEQUENCE:0
LOCATION:Aula C (IGFAE)
X-MICROSOFT-CDO-BUSYSTATUS:BUSY
BEGIN:VALARM
TRIGGER:-PT30M
ACTION:DISPLAY
DESCRIPTION:Reminder
END:VALARM
END:VEVENT
END:VCALENDAR