BEGIN:VCALENDAR
PRODID:-//AddEvent Inc//AddEvent.com v1.7//EN
VERSION:2.0
BEGIN:VTIMEZONE
TZID:America/New_York
BEGIN:STANDARD
DTSTART:20261101T010000
RRULE:FREQ=YEARLY;BYDAY=1SU;BYMONTH=11
TZOFFSETFROM:-0400
TZOFFSETTO:-0500
TZNAME:EST
END:STANDARD
BEGIN:DAYLIGHT
DTSTART:20260308T030000
RRULE:FREQ=YEARLY;BYDAY=2SU;BYMONTH=3
TZOFFSETFROM:-0500
TZOFFSETTO:-0400
TZNAME:EDT
END:DAYLIGHT
END:VTIMEZONE
BEGIN:VEVENT
DESCRIPTION:“Networking Above the Clouds” Lunch and Learn Series\n\nTuesday\, June 15\, 11:30AM ET\n\nEnjoy lunch on us while learning how enterprise organizations are solving networking and security challenges in the public cloud. Find out what the cloud service providers don't tell you and what hundreds of enterprise cloud architects wish they had known much earlier.\n\nAgenda:\n\n11:30AM – Registration\; Check-In\n\n11:45AM – Presentation and Demonstration\n\n1:00PM – Q&A\; Wrap-Up\n\n------\n\nPowered by addevent.com \nShare your next event with us!\n
X-ALT-DESC;FMTTYPE=text/html:“Networking Above the Clouds” Lunch and Learn Series<br />Tuesday, June 15, 11:30AM ET<br><br>Enjoy lunch on us while learning how enterprise organizations are solving networking and security challenges in the public cloud. Find out what the cloud service providers don't tell you and what hundreds of enterprise cloud architects wish they had known much earlier.<br><br>Agenda:<br />11:30AM – Registration; Check-In<br />11:45AM – Presentation and Demonstration<br />1:00PM – Q&amp;A; Wrap-Up<br /><br />------<br /><br />Powered by addevent.com <br>Share your next event with us!<br>
UID:1776655971addeventcom
SUMMARY:Aviatrix Multi-Cloud Networking Lunch
DTSTART;TZID=America/New_York:20210615T113000
DTEND;TZID=America/New_York:20210615T133000
DTSTAMP:20260420T033251Z
TRANSP:OPAQUE
STATUS:CONFIRMED
SEQUENCE:0
LOCATION:The Capital Grille - 94 Perimeter Center W\, Dunwoody\, GA 30346
X-MICROSOFT-CDO-BUSYSTATUS:BUSY
BEGIN:VALARM
TRIGGER:-PT30M
ACTION:DISPLAY
DESCRIPTION:Reminder
END:VALARM
END:VEVENT
END:VCALENDAR