BEGIN:VCALENDAR
PRODID:-//AddEvent Inc//AddEvent.com v1.7//EN
VERSION:2.0
BEGIN:VTIMEZONE
TZID:America/New_York
BEGIN:STANDARD
DTSTART:20261101T010000
RRULE:FREQ=YEARLY;BYDAY=1SU;BYMONTH=11
TZOFFSETFROM:-0400
TZOFFSETTO:-0500
TZNAME:EST
END:STANDARD
BEGIN:DAYLIGHT
DTSTART:20260308T030000
RRULE:FREQ=YEARLY;BYDAY=2SU;BYMONTH=3
TZOFFSETFROM:-0500
TZOFFSETTO:-0400
TZNAME:EDT
END:DAYLIGHT
END:VTIMEZONE
BEGIN:VEVENT
DESCRIPTION:Development of InSb Surface Quantum Wells for hybrid superconducting device applications. \n\nAbstract:\nSurface quantum well (QW) heterostructures in III-V semiconductors are compatible with proximitized superconductivity and offer a scalable planar platform for superconductor-semiconductor systems\, such as those suggested for topological quantum computation and those suitable for topological phase transitions involving Majorana zero modes. Amongst III-V binary semiconductors\, Indium Antimonide (InSb) has the smallest electron effective mass\, highest spin orbit coupling and largest Land´e g-factor. Such material properties makes the pursuit of InSb QWs desirable for a number of quantum device applications\, including quantum sensing\, quantum metrology\, and quantum computing. \n \nUnfortunately\, high quality two-dimensional electron gases (2DEGs) in InSb QWs have so far been difficult to realize. InSb QWs have generally relied on the use of modulation doping for 2DEG formation\, but these structures have frequently reported issues with parasitic parallel conduction and unstable carrier densities. We report on the transport characteristics of field effect 2DEGs in surface InSb quantum wells which overcome these challenges and are suitable for future hybrid superconducting device applications.
X-ALT-DESC;FMTTYPE=text/html:Development of InSb Surface Quantum Wells for hybrid superconducting device applications. <br><br>Abstract:<br />Surface quantum well (QW) heterostructures in III-V semiconductors are compatible with proximitized superconductivity and offer a scalable planar platform for superconductor-semiconductor systems, such as those suggested for topological quantum computation and those suitable for topological phase transitions involving Majorana zero modes. Amongst III-V binary semiconductors, Indium Antimonide (InSb) has the smallest electron effective mass, highest spin orbit coupling and largest Land´e g-factor. Such material properties makes the pursuit of InSb QWs desirable for a number of quantum device applications, including quantum sensing, quantum metrology, and quantum computing. <br /> <br />Unfortunately, high quality two-dimensional electron gases (2DEGs) in InSb QWs have so far been difficult to realize. InSb QWs have generally relied on the use of modulation doping for 2DEG formation, but these structures have frequently reported issues with parasitic parallel conduction and unstable carrier densities. We report on the transport characteristics of field effect 2DEGs in surface InSb quantum wells which overcome these challenges and are suitable for future hybrid superconducting device applications.
UID:1776802866addeventcom
SUMMARY:IQC Student Seminar featuring Emma Bergeron
DTSTART;TZID=America/New_York:20230425T120000
DTEND;TZID=America/New_York:20230425T130000
DTSTAMP:20260421T202106Z
TRANSP:OPAQUE
STATUS:CONFIRMED
SEQUENCE:0
LOCATION:QNC 1201
X-MICROSOFT-CDO-BUSYSTATUS:BUSY
BEGIN:VALARM
TRIGGER:-PT30M
ACTION:DISPLAY
DESCRIPTION:Reminder
END:VALARM
END:VEVENT
END:VCALENDAR