BEGIN:VCALENDAR
PRODID:-//AddEvent Inc//AddEvent.com v1.7//EN
VERSION:2.0
BEGIN:VTIMEZONE
TZID:America/Los_Angeles
BEGIN:STANDARD
DTSTART:20261101T010000
RRULE:FREQ=YEARLY;BYDAY=1SU;BYMONTH=11
TZOFFSETFROM:-0700
TZOFFSETTO:-0800
TZNAME:PST
END:STANDARD
BEGIN:DAYLIGHT
DTSTART:20260308T030000
RRULE:FREQ=YEARLY;BYDAY=2SU;BYMONTH=3
TZOFFSETFROM:-0800
TZOFFSETTO:-0700
TZNAME:PDT
END:DAYLIGHT
END:VTIMEZONE
BEGIN:VEVENT
DESCRIPTION:Join NVIDIA AI research leaders Sanja Fidler\, Aaron Lefohn\, and Ming-Yu Liu as they chart the next frontier in computer graphics and physical AI.\n\nThis is more than an update. It’s a glimpse into the breakthroughs shaping computer graphics in the age of AI. From faster synthetic data generation to streamlined content creation\, these advancements are driving innovation across media\, design\, robotics\, automotive\, and manufacturing.\n\nRegister https://s2025.siggraph.org/register/ to watch the special address in person or watch the livestream here https://www.nvidia.com/en-us/events/siggraph/.
X-ALT-DESC;FMTTYPE=text/html:<p dir="ltr">Join NVIDIA AI research leaders Sanja Fidler, Aaron Lefohn, and Ming-Yu Liu as they chart the next frontier in computer graphics and physical AI.</p><p dir="ltr">This is more than an update. It’s a glimpse into the breakthroughs shaping computer graphics in the age of AI. From faster synthetic data generation to streamlined content creation, these advancements are driving innovation across media, design, robotics, automotive, and manufacturing.</p><a href="https://s2025.siggraph.org/register/">Register</a> to watch the special address in person or <a href="https://www.nvidia.com/en-us/events/siggraph/">watch the livestream here</a>.
UID:1776783540addeventcom
SUMMARY:NVIDIA Research Special Address
DTSTART;TZID=America/Los_Angeles:20250811T160000
DTEND;TZID=America/Los_Angeles:20250811T170000
DTSTAMP:20260421T145900Z
TRANSP:OPAQUE
STATUS:CONFIRMED
SEQUENCE:0
LOCATION:Vancouver Convention Centre
X-MICROSOFT-CDO-BUSYSTATUS:BUSY
BEGIN:VALARM
TRIGGER:-PT30M
ACTION:DISPLAY
DESCRIPTION:Reminder
END:VALARM
END:VEVENT
END:VCALENDAR