BEGIN:VCALENDAR
PRODID:-//AddEvent Inc//AddEvent.com v1.7//EN
VERSION:2.0
BEGIN:VTIMEZONE
TZID:America/Los_Angeles
BEGIN:STANDARD
DTSTART:20261101T010000
RRULE:FREQ=YEARLY;BYDAY=1SU;BYMONTH=11
TZOFFSETFROM:-0700
TZOFFSETTO:-0800
TZNAME:PST
END:STANDARD
BEGIN:DAYLIGHT
DTSTART:20260308T030000
RRULE:FREQ=YEARLY;BYDAY=2SU;BYMONTH=3
TZOFFSETFROM:-0800
TZOFFSETTO:-0700
TZNAME:PDT
END:DAYLIGHT
END:VTIMEZONE
BEGIN:VEVENT
DESCRIPTION:Thursday\, January 22\, 2026 \n\nDCW Honors\nDAVID ROUSSÈVE\nFilm Retrospective \nGala Reception \n\nFor tickets and info: https://theatreraymondkabbaz.ludus.com/index.php?show_id=200503966\n\n\n\n------\n\nPowered by addevent.com \nShare your next event with us!\n
X-ALT-DESC;FMTTYPE=text/html:Thursday, January 22, 2026 <br><br><span>DCW Honors</span><br />DAVID ROUSSÈVE<br /><span>Film Retrospective </span><br /><span>Gala Reception </span><br><br><span>For tickets and info: <a data-fr-linked="true" href="https://theatreraymondkabbaz.ludus.com/index.php?show_id=200503966">https://theatreraymondkabbaz.ludus.com/index.php?show_id=200503966</a></span><br><br><br /><br />------<br /><br />Powered by addevent.com <br>Share your next event with us!<br>
UID:1776608194addeventcom
SUMMARY:DCW 2026 David Roussève Film Retrospective & Gala
DTSTART;TZID=America/Los_Angeles:20260122T193000
DTEND;TZID=America/Los_Angeles:20260122T223000
DTSTAMP:20260419T141634Z
TRANSP:OPAQUE
STATUS:CONFIRMED
SEQUENCE:0
LOCATION:10361 W Pico Blvd\, Los Angeles\, 90064\, CA\, USA
X-MICROSOFT-CDO-BUSYSTATUS:BUSY
BEGIN:VALARM
TRIGGER:-PT10080M
ACTION:DISPLAY
DESCRIPTION:Reminder
END:VALARM
END:VEVENT
END:VCALENDAR