BEGIN:VCALENDAR
PRODID:-//AddEvent Inc//AddEvent.com v1.7//EN
VERSION:2.0
BEGIN:VTIMEZONE
TZID:America/New_York
BEGIN:STANDARD
DTSTART:20261101T010000
RRULE:FREQ=YEARLY;BYDAY=1SU;BYMONTH=11
TZOFFSETFROM:-0400
TZOFFSETTO:-0500
TZNAME:EST
END:STANDARD
BEGIN:DAYLIGHT
DTSTART:20260308T030000
RRULE:FREQ=YEARLY;BYDAY=2SU;BYMONTH=3
TZOFFSETFROM:-0500
TZOFFSETTO:-0400
TZNAME:EDT
END:DAYLIGHT
END:VTIMEZONE
BEGIN:VEVENT
DESCRIPTION:FutureGood is inviting you to a scheduled Zoom meeting.\n\nTopic: Q&As with Trista Harris: Civic Trust\nTime: Oct 21\, 2026 01:00 PM Eastern Time (US and Canada)\nJoin Zoom Meeting\nhttps://us02web.zoom.us/j/86763882051?pwd=QzXfmHcJROnQLkZa9un0HgTybmI5aN.1\n\nView meeting insights with Zoom AI Companion\nhttps://us02web.zoom.us/launch/edl?muid=c86c2732-4517-40cb-a2fb-057144aa4e6b\n\nMeeting ID: 867 6388 2051\nPasscode: H4?F7^\n\n---\n\nOne tap mobile\n+13126266799\,\,86763882051#\,\,\,\,*150250# US (Chicago)\n+13462487799\,\,86763882051#\,\,\,\,*150250# US (Houston)\n\nJoin instructions\nhttps://us02web.zoom.us/meetings/86763882051/invitations?signature=w-tiueBdG0tsENsn6whJv9cIZXIIuwz_iA8UUKgEuV0\n\n\n\n------\n\nPowered by addevent.com \nShare your next event with us!\n
X-ALT-DESC;FMTTYPE=text/html:FutureGood is inviting you to a scheduled Zoom meeting.<br><br>Topic: Q&amp;As with Trista Harris: Civic Trust<br />Time: Oct 21, 2026 01:00 PM Eastern Time (US and Canada)<br />Join Zoom Meeting<br />https://us02web.zoom.us/j/86763882051?pwd=QzXfmHcJROnQLkZa9un0HgTybmI5aN.1<br><br>View meeting insights with Zoom AI Companion<br />https://us02web.zoom.us/launch/edl?muid=c86c2732-4517-40cb-a2fb-057144aa4e6b<br><br>Meeting ID: 867 6388 2051<br />Passcode: H4?F7^<br><br>---<br><br>One tap mobile<br />+13126266799,,86763882051#,,,,*150250# US (Chicago)<br />+13462487799,,86763882051#,,,,*150250# US (Houston)<br><br>Join instructions<br />https://us02web.zoom.us/meetings/86763882051/invitations?signature=w-tiueBdG0tsENsn6whJv9cIZXIIuwz_iA8UUKgEuV0<br><br><br /><br />------<br /><br />Powered by addevent.com <br>Share your next event with us!<br>
UID:1776797849addeventcom
SUMMARY:Q&As with Trista Harris: Civic Trust
DTSTART;TZID=America/New_York:20261021T130000
DTEND;TZID=America/New_York:20261021T140000
DTSTAMP:20260421T185729Z
TRANSP:OPAQUE
STATUS:CONFIRMED
SEQUENCE:0
LOCATION:https://us02web.zoom.us/j/86763882051?pwd=QzXfmHcJROnQLkZa9un0HgTybmI5aN.1
X-MICROSOFT-CDO-BUSYSTATUS:BUSY
BEGIN:VALARM
TRIGGER:-PT30M
ACTION:DISPLAY
DESCRIPTION:Reminder
END:VALARM
END:VEVENT
END:VCALENDAR