BEGIN:VCALENDAR
PRODID:-//AddEvent Inc//AddEvent.com v1.7//EN
VERSION:2.0
BEGIN:VTIMEZONE
TZID:America/Los_Angeles
BEGIN:STANDARD
DTSTART:20261101T010000
RRULE:FREQ=YEARLY;BYDAY=1SU;BYMONTH=11
TZOFFSETFROM:-0700
TZOFFSETTO:-0800
TZNAME:PST
END:STANDARD
BEGIN:DAYLIGHT
DTSTART:20260308T030000
RRULE:FREQ=YEARLY;BYDAY=2SU;BYMONTH=3
TZOFFSETFROM:-0800
TZOFFSETTO:-0700
TZNAME:PDT
END:DAYLIGHT
END:VTIMEZONE
BEGIN:VEVENT
DESCRIPTION:SAP Center に、NVIDIAの創業者/ CEO であるジェンスン フアン (Jensen Huang) が登壇します。事前に行われる GTC Live のプレゲーム ショーでは、業界のリーダーにより、AI、アクセラレーテッド コンピューティング、そして変革をもたらすテクノロジにおける最新動向について、インサイトに満ちた議論が繰り広げられます。是非会場に早目にお越しください。
X-ALT-DESC;FMTTYPE=text/html:SAP Center に、NVIDIAの創業者/ CEO であるジェンスン フアン (Jensen Huang) が登壇します。事前に行われる GTC Live のプレゲーム ショーでは、業界のリーダーにより、AI、アクセラレーテッド コンピューティング、そして変革をもたらすテクノロジにおける最新動向について、インサイトに満ちた議論が繰り広げられます。是非会場に早目にお越しください。
UID:1776871307addeventcom
SUMMARY:NVIDIA GTC 2026 基調講演
DTSTART;TZID=America/Los_Angeles:20260316T110000
DTEND;TZID=America/Los_Angeles:20260316T130000
DTSTAMP:20260422T152147Z
TRANSP:OPAQUE
STATUS:CONFIRMED
SEQUENCE:0
X-MICROSOFT-CDO-BUSYSTATUS:BUSY
BEGIN:VALARM
TRIGGER:-PT1440M
ACTION:DISPLAY
DESCRIPTION:Reminder
END:VALARM
END:VEVENT
END:VCALENDAR