BEGIN:VCALENDAR
PRODID:-//AddEvent Inc//AddEvent.com v1.7//EN
VERSION:2.0
BEGIN:VTIMEZONE
TZID:America/New_York
BEGIN:STANDARD
DTSTART:20261101T010000
RRULE:FREQ=YEARLY;BYDAY=1SU;BYMONTH=11
TZOFFSETFROM:-0400
TZOFFSETTO:-0500
TZNAME:EST
END:STANDARD
BEGIN:DAYLIGHT
DTSTART:20260308T030000
RRULE:FREQ=YEARLY;BYDAY=2SU;BYMONTH=3
TZOFFSETFROM:-0500
TZOFFSETTO:-0400
TZNAME:EDT
END:DAYLIGHT
END:VTIMEZONE
BEGIN:VEVENT
DESCRIPTION:Boston Public Library\, Copley Square (700 Boylston St.)\, Rabb Hall\n\nhttp://csfilm.org/films/new-immigrant-and-refugee-visions/\n\n------\n\nPowered by addevent.com \nShare your next event with us!\n
X-ALT-DESC;FMTTYPE=text/html:Boston Public Library, Copley Square (700 Boylston St.), Rabb Hall<br />http://csfilm.org/films/new-immigrant-and-refugee-visions/<br /><br />------<br /><br />Powered by addevent.com <br>Share your next event with us!<br>
UID:1776643391addeventcom
SUMMARY:CSFilm New Immigrant and Refugee Visions in Film Celebration
DTSTART;TZID=America/New_York:20190401T180000
DTEND;TZID=America/New_York:20190401T193000
DTSTAMP:20260420T000311Z
TRANSP:OPAQUE
STATUS:CONFIRMED
SEQUENCE:0
LOCATION:https://goo.gl/maps/ibBwru2G1PS2
X-MICROSOFT-CDO-BUSYSTATUS:BUSY
END:VEVENT
END:VCALENDAR