BEGIN:VCALENDAR
PRODID:-//AddEvent Inc//AddEvent.com v1.7//EN
VERSION:2.0
BEGIN:VEVENT
DESCRIPTION:A preview exhibit featuring artwork from dozens of Bay Area Artists participating in Silicon Valley Open Studios this year\, including La Vie en Rouge https://maltiblee.com/artwork/la-vie-en-rouge/ by Malti B Lee.\n\n\n\n------\n\nPowered by addevent.com \nShare your next event with us!\n
X-ALT-DESC;FMTTYPE=text/html:A preview exhibit featuring artwork from dozens of Bay Area Artists participating in Silicon Valley Open Studios this year, including <a href="https://maltiblee.com/artwork/la-vie-en-rouge/" rel="noopener noreferrer" target="_blank">La Vie en Rouge</a> by Malti B Lee.<br><br><br /><br />------<br /><br />Powered by addevent.com <br>Share your next event with us!<br>
UID:1776810867addeventcom
SUMMARY:SVOS Los Altos Preview
DTSTART;VALUE=DATE:20230403
DTEND;VALUE=DATE:20230429
DTSTAMP:20260421T223427Z
TRANSP:OPAQUE
STATUS:CONFIRMED
SEQUENCE:0
LOCATION:Los Altos Library\, 13 S San Antonio Rd\, Los Altos\, CA 94022
X-MICROSOFT-CDO-BUSYSTATUS:BUSY
END:VEVENT
END:VCALENDAR