BEGIN:VCALENDAR
PRODID:-//AddEvent Inc//AddEvent.com v1.7//EN
VERSION:2.0
BEGIN:VTIMEZONE
TZID:Europe/Vilnius
BEGIN:STANDARD
DTSTART:20261025T030000
RRULE:FREQ=YEARLY;BYDAY=-1SU;BYMONTH=10
TZOFFSETFROM:+0300
TZOFFSETTO:+0200
TZNAME:EET
END:STANDARD
BEGIN:DAYLIGHT
DTSTART:20260329T040000
RRULE:FREQ=YEARLY;BYDAY=-1SU;BYMONTH=3
TZOFFSETFROM:+0200
TZOFFSETTO:+0300
TZNAME:EEST
END:DAYLIGHT
END:VTIMEZONE
BEGIN:VEVENT
DESCRIPTION:Kviečiame Jus švęsti mūsų vestuvių dieną kartu!\n\nŠventė vyks gamtos apsuptyje\, netoli Vilniaus. Renginys be alkoholio. Jūsų buvimas – pati gražiausia dovana 🤍\n\nDaugiau informacijos https://ieva-matas.lt/#duk\n\n------\n\nPowered by addevent.com \nShare your next event with us!\n
X-ALT-DESC;FMTTYPE=text/html:Kviečiame Jus švęsti mūsų vestuvių dieną kartu!<br><br>Šventė vyks gamtos apsuptyje, netoli Vilniaus. Renginys be alkoholio. Jūsų buvimas – pati gražiausia dovana 🤍<br><br>Daugiau informacijos https://ieva-matas.lt/#duk<br /><br />------<br /><br />Powered by addevent.com <br>Share your next event with us!<br>
UID:1776849715addeventcom
SUMMARY:Ievos ir Mato veselė 🤍
DTSTART;TZID=Europe/Vilnius:20260815T150000
DTEND;TZID=Europe/Vilnius:20260815T234500
DTSTAMP:20260422T092155Z
TRANSP:OPAQUE
STATUS:CONFIRMED
SEQUENCE:0
LOCATION:Ilgoji g. 43\, Liepiškės\, Nemėžio sen.\, Vilniaus r.\, 13266
X-MICROSOFT-CDO-BUSYSTATUS:BUSY
BEGIN:VALARM
TRIGGER:-PT10080M
ACTION:DISPLAY
DESCRIPTION:Reminder
END:VALARM
END:VEVENT
END:VCALENDAR