BEGIN:VCALENDAR
PRODID:-//AddEvent Inc//AddEvent.com v1.7//EN
VERSION:2.0
BEGIN:VTIMEZONE
TZID:Asia/Nicosia
BEGIN:STANDARD
DTSTART:20261025T030000
RRULE:FREQ=YEARLY;BYDAY=-1SU;BYMONTH=10
TZOFFSETFROM:+0300
TZOFFSETTO:+0200
TZNAME:EET
END:STANDARD
BEGIN:DAYLIGHT
DTSTART:20260329T040000
RRULE:FREQ=YEARLY;BYDAY=-1SU;BYMONTH=3
TZOFFSETFROM:+0200
TZOFFSETTO:+0300
TZNAME:EEST
END:DAYLIGHT
END:VTIMEZONE
BEGIN:VEVENT
DESCRIPTION:The online lecture titled “Classicism and Religion in the fourth century CE: the case of Corbridge lanx” marks the final event in the 6th Lecture Cycle on Late Antiquity “When our World Became Christian” https://www.ouc.ac.cy/index.php/el/news-events-menu-2/nea/4626-lateantiquity-6\, organised by the Undergraduate Programme “Studies in Hellenic Culture https://www.ouc.ac.cy/index.php/en/studies/studies-degrees-bachelor/studies-degrees-bachelor-ell” of the Open University of Cyprus https://www.ouc.ac.cy/index.php/en/ (OUC). The guest speaker is Dr Gianfranco Agosti https://www.college-de-france.fr/en/person/gianfranco-agosti\, Professor of Classical and Late Antiquity Philology\, Literature and Linguistics at University of Pisa https://www.unipi.it/index.php/english. The lecture will take place on Thursday\, 15 May 2025 at 19:00 pm (GMT+3)\, and will be broadcast online via the OUC’s distance learning tools at the following link: https://tinyurl.com/bdew2azv https://tinyurl.com/bdew2azv\n\n\n\n------\n\nPowered by addevent.com \nShare your next event with us!\n
X-ALT-DESC;FMTTYPE=text/html:<p style="margin:0cm;font-size:16px;font-family:"><span style="font-family:">The online lecture titled </span><strong><span style="font-family:">“Classicism and Religion in the fourth century CE: the case of Corbridge <em>lanx</em></span></strong><span style="font-family:">” </span><span style="font-family:">marks the final event in the </span><span style="font-family:"><a href="https://www.ouc.ac.cy/index.php/el/news-events-menu-2/nea/4626-lateantiquity-6"><strong>6th Lecture Cycle on Late Antiquity “When our World Became Christian”</strong></a><span style="color:black;">, organised by the Undergraduate Programme “</span><a href="https://www.ouc.ac.cy/index.php/en/studies/studies-degrees-bachelor/studies-degrees-bachelor-ell"><strong>Studies in Hellenic Culture</strong></a><span style="color:black;">” of the </span><a href="https://www.ouc.ac.cy/index.php/en/"><strong>Open University of Cyprus</strong></a><strong><span style="color:black;"> (OUC)</span></strong><span style="color:black;">. The guest speaker is <strong>Dr </strong></span><a href="https://www.college-de-france.fr/en/person/gianfranco-agosti"><strong>Gianfranco Agosti</strong></a></span><span style="color:blue;text-decoration:underline;"><strong><span style="font-family:">, </span></strong></span><span style="font-family:">Professor of Classical and Late Antiquity Philology, Literature and Linguistics at <a href="https://www.unipi.it/index.php/english"><strong>University of Pisa</strong></a></span><span style="color:blue;text-decoration:underline;"><span style="font-family:">. </span></span><span style="font-family:">The lecture will take place on <strong>Thursday</strong>, <strong>15 May 2025</strong> at <strong>19:00 pm (GMT+3)</strong>, and will be broadcast online via the OUC’s distance learning tools at the following <strong>link</strong>: </span><span style="font-family:"><a href="https://tinyurl.com/bdew2azv"><strong>https://tinyurl.com/bdew2azv</strong></a></span></p><br /><br />------<br /><br />Powered by addevent.com <br>Share your next event with us!<br>
UID:1776779218addeventcom
SUMMARY:Classicism and Religion in fourth century CE: the case of the Corbridge lanx
DTSTART;TZID=Asia/Nicosia:20250515T190000
DTEND;TZID=Asia/Nicosia:20250515T210000
DTSTAMP:20260421T134658Z
TRANSP:OPAQUE
STATUS:CONFIRMED
SEQUENCE:0
LOCATION:Online
X-MICROSOFT-CDO-BUSYSTATUS:BUSY
BEGIN:VALARM
TRIGGER:-PT60M
ACTION:DISPLAY
DESCRIPTION:Reminder
END:VALARM
END:VEVENT
END:VCALENDAR