BEGIN:VCALENDAR
PRODID:-//AddEvent Inc//AddEvent.com v1.7//EN
VERSION:2.0
BEGIN:VTIMEZONE
TZID:Asia/Kuala_Lumpur
BEGIN:STANDARD
DTSTART:19820101T000000
TZOFFSETFROM:+0800
TZOFFSETTO:+0800
TZNAME:+08
END:STANDARD
END:VTIMEZONE
BEGIN:VEVENT
DESCRIPTION:\n\n------\n\nPowered by addevent.com \nShare your next event with us!\n
X-ALT-DESC;FMTTYPE=text/html:<br /><br />------<br /><br />Powered by addevent.com <br>Share your next event with us!<br>
UID:1777063031addeventcom
SUMMARY:Virtual Open Day
DTSTART;TZID=Asia/Kuala_Lumpur:20260523T110000
DTEND;TZID=Asia/Kuala_Lumpur:20260523T190000
DTSTAMP:20260424T203711Z
TRANSP:OPAQUE
STATUS:CONFIRMED
SEQUENCE:0
LOCATION:Virtual
X-MICROSOFT-CDO-BUSYSTATUS:BUSY
BEGIN:VALARM
TRIGGER:-PT30M
ACTION:DISPLAY
DESCRIPTION:Reminder
END:VALARM
END:VEVENT
END:VCALENDAR