BEGIN:VCALENDAR
PRODID:-//AddEvent Inc//AddEvent.com v1.7//EN
VERSION:2.0
BEGIN:VTIMEZONE
TZID:America/New_York
BEGIN:STANDARD
DTSTART:20261101T010000
RRULE:FREQ=YEARLY;BYDAY=1SU;BYMONTH=11
TZOFFSETFROM:-0400
TZOFFSETTO:-0500
TZNAME:EST
END:STANDARD
BEGIN:DAYLIGHT
DTSTART:20260308T030000
RRULE:FREQ=YEARLY;BYDAY=2SU;BYMONTH=3
TZOFFSETFROM:-0500
TZOFFSETTO:-0400
TZNAME:EDT
END:DAYLIGHT
END:VTIMEZONE
BEGIN:VEVENT
DESCRIPTION:FutureGood is inviting you to a scheduled Zoom meeting.\n\nTopic: Q&As with Trista Harris: What's Next for Immigrants & Refugees\nTime: Aug 12\, 2026 01:00 PM Eastern Time (US and Canada)\nJoin Zoom Meeting\nhttps://us02web.zoom.us/j/82387942620?pwd=LisQEsxIxV44vYiRr36p9EqNWpoQAn.1\n\nView meeting insights with Zoom AI Companion\nhttps://us02web.zoom.us/launch/edl?muid=3a3c9995-73fd-45a7-b1fd-93a7b005d812\n\nMeeting ID: 823 8794 2620\nPasscode: Um6e!N\n\n---\n\nOne tap mobile\n+13017158592\,\,82387942620#\,\,\,\,*751664# US (Washington DC)\n+13052241968\,\,82387942620#\,\,\,\,*751664# US\n\nJoin instructions\nhttps://us02web.zoom.us/meetings/82387942620/invitations?signature=a4oEQu1tol-7Rw9eIf-1wyHPPlEet1uSqFFNL6GxsSk\n\n\n\n------\n\nPowered by addevent.com \nShare your next event with us!\n
X-ALT-DESC;FMTTYPE=text/html:FutureGood is inviting you to a scheduled Zoom meeting.<br><br>Topic: Q&amp;As with Trista Harris: What's Next for Immigrants &amp; Refugees<br />Time: Aug 12, 2026 01:00 PM Eastern Time (US and Canada)<br />Join Zoom Meeting<br />https://us02web.zoom.us/j/82387942620?pwd=LisQEsxIxV44vYiRr36p9EqNWpoQAn.1<br><br>View meeting insights with Zoom AI Companion<br />https://us02web.zoom.us/launch/edl?muid=3a3c9995-73fd-45a7-b1fd-93a7b005d812<br><br>Meeting ID: 823 8794 2620<br />Passcode: Um6e!N<br><br>---<br><br>One tap mobile<br />+13017158592,,82387942620#,,,,*751664# US (Washington DC)<br />+13052241968,,82387942620#,,,,*751664# US<br><br>Join instructions<br />https://us02web.zoom.us/meetings/82387942620/invitations?signature=a4oEQu1tol-7Rw9eIf-1wyHPPlEet1uSqFFNL6GxsSk<br><br><br /><br />------<br /><br />Powered by addevent.com <br>Share your next event with us!<br>
UID:1776798025addeventcom
SUMMARY:Q&As with Trista Harris: What's Next for Immigrants & Refugees
DTSTART;TZID=America/New_York:20260812T130000
DTEND;TZID=America/New_York:20260812T140000
DTSTAMP:20260421T190025Z
TRANSP:OPAQUE
STATUS:CONFIRMED
SEQUENCE:0
LOCATION:https://us02web.zoom.us/j/82387942620?pwd=LisQEsxIxV44vYiRr36p9EqNWpoQAn.1
X-MICROSOFT-CDO-BUSYSTATUS:BUSY
BEGIN:VALARM
TRIGGER:-PT30M
ACTION:DISPLAY
DESCRIPTION:Reminder
END:VALARM
END:VEVENT
END:VCALENDAR