BEGIN:VCALENDAR
PRODID:-//AddEvent Inc//AddEvent.com v1.7//EN
VERSION:2.0
BEGIN:VTIMEZONE
TZID:Europe/Paris
BEGIN:STANDARD
DTSTART:20261025T020000
RRULE:FREQ=YEARLY;BYDAY=-1SU;BYMONTH=10
TZOFFSETFROM:+0200
TZOFFSETTO:+0100
TZNAME:CET
END:STANDARD
BEGIN:DAYLIGHT
DTSTART:20260329T030000
RRULE:FREQ=YEARLY;BYDAY=-1SU;BYMONTH=3
TZOFFSETFROM:+0100
TZOFFSETTO:+0200
TZNAME:CEST
END:DAYLIGHT
END:VTIMEZONE
BEGIN:VEVENT
DESCRIPTION:Seminar URL: https://www.pianogroove.com/live-seminars/autumn-in-new-york-beegie-adair/ \n\nIn this seminar we explore Beegie Adair's arrangement of "Autumn In New York". We breakdown her solo piano introduction and analyse her voicings and melodic fills and embellishments. 
X-ALT-DESC;FMTTYPE=text/html:Seminar URL: <a href="https://www.pianogroove.com/live-seminars/autumn-in-new-york-beegie-adair/">https://www.pianogroove.com/live-seminars/autumn-in-new-york-beegie-adair/</a> <br><br>In this seminar we explore Beegie Adair's arrangement of "Autumn In New York". We breakdown her solo piano introduction and analyse her voicings and melodic fills and embellishments. 
UID:1776607067addeventcom
SUMMARY:Autumn In New York - Beegie Adair
DTSTART;TZID=Europe/Paris:20220415T170000
DTEND;TZID=Europe/Paris:20220415T180000
DTSTAMP:20260419T135747Z
TRANSP:OPAQUE
STATUS:CONFIRMED
SEQUENCE:0
LOCATION:https://www.pianogroove.com/live-seminars/autumn-in-new-york-beegie-adair/
X-MICROSOFT-CDO-BUSYSTATUS:BUSY
BEGIN:VALARM
TRIGGER:-PT60M
ACTION:DISPLAY
DESCRIPTION:Reminder
END:VALARM
END:VEVENT
END:VCALENDAR