BEGIN:VCALENDAR
PRODID:-//AddEvent Inc//AddEvent.com v1.7//EN
VERSION:2.0
BEGIN:VTIMEZONE
TZID:America/Los_Angeles
BEGIN:STANDARD
DTSTART:20261101T010000
RRULE:FREQ=YEARLY;BYDAY=1SU;BYMONTH=11
TZOFFSETFROM:-0700
TZOFFSETTO:-0800
TZNAME:PST
END:STANDARD
BEGIN:DAYLIGHT
DTSTART:20260308T030000
RRULE:FREQ=YEARLY;BYDAY=2SU;BYMONTH=3
TZOFFSETFROM:-0800
TZOFFSETTO:-0700
TZNAME:PDT
END:DAYLIGHT
END:VTIMEZONE
BEGIN:VEVENT
DESCRIPTION:This film is available:\n\n• for free as Flowers on TubiTV right HERE https://basqueeducational.us19.list-manage.com/track/click?u=26efa480c04cc86a3cea4ab64&id=13026fce9a&e=0e49f29c8a\n• or rent on Amazon Prime\, Apple TV\, and Google Play for $1.99-$3.99\n\nZoom details will be emailed to members. If you're not a member yet\, join here https://www.basqueeducational.org/beo-movie-club/.
X-ALT-DESC;FMTTYPE=text/html:This film is available:<br /><ul><li>for free as <em>Flowers</em> on TubiTV right <a href="https://basqueeducational.us19.list-manage.com/track/click?u=26efa480c04cc86a3cea4ab64&id=13026fce9a&e=0e49f29c8a" target="_blank">HERE</a></li><li>or rent on Amazon Prime, Apple TV, and Google Play for $1.99-$3.99</li></ul>Zoom details will be emailed to members. If you're not a member yet, <a href="https://www.basqueeducational.org/beo-movie-club/" rel="noopener noreferrer" target="_blank">join here</a>.
UID:1776969667addeventcom
SUMMARY:BEO Movie Club Meeting: Loreak
DTSTART;TZID=America/Los_Angeles:20251007T173000
DTEND;TZID=America/Los_Angeles:20251007T183000
DTSTAMP:20260423T184107Z
TRANSP:OPAQUE
STATUS:CONFIRMED
SEQUENCE:0
X-MICROSOFT-CDO-BUSYSTATUS:BUSY
BEGIN:VALARM
TRIGGER:-PT30M
ACTION:DISPLAY
DESCRIPTION:Reminder
END:VALARM
END:VEVENT
END:VCALENDAR