BEGIN:VCALENDAR
PRODID:-//AddEvent Inc//AddEvent.com v1.7//EN
VERSION:2.0
BEGIN:VTIMEZONE
TZID:America/Denver
BEGIN:STANDARD
DTSTART:20261101T010000
RRULE:FREQ=YEARLY;BYDAY=1SU;BYMONTH=11
TZOFFSETFROM:-0600
TZOFFSETTO:-0700
TZNAME:MST
END:STANDARD
BEGIN:DAYLIGHT
DTSTART:20260308T030000
RRULE:FREQ=YEARLY;BYDAY=2SU;BYMONTH=3
TZOFFSETFROM:-0700
TZOFFSETTO:-0600
TZNAME:MDT
END:DAYLIGHT
END:VTIMEZONE
BEGIN:VEVENT
DESCRIPTION:Thanks for joining the live Divvy Demo. \n\nDivvy is the #1 expense management software. \n\nYou're about to learn: \n\n1. How to use technology to automate expense reports\n\n2. How to create controlled but flexible budgets \n\n3. How to get access to scalable business credit\n\nJoin the webinar up to 10 minutes beforehand using the link in your registration email. \n\nCan't find the email? Sign up here: https://getdivvy.com/resources/pillow-cube-demo/\n\n------\n\nPowered by addevent.com \nShare your next event with us!\n
X-ALT-DESC;FMTTYPE=text/html:Thanks for joining the live Divvy Demo. <br><br>Divvy is the #1 expense management software. <br><br>You're about to learn: <br><br>1. How to use technology to automate expense reports<br />2. How to create controlled but flexible budgets <br />3. How to get access to scalable business credit<br><br>Join the webinar up to 10 minutes beforehand using the link in your registration email. <br><br>Can't find the email? Sign up here: https://getdivvy.com/resources/pillow-cube-demo/<br /><br />------<br /><br />Powered by addevent.com <br>Share your next event with us!<br>
UID:1776938085addeventcom
SUMMARY:[Webinar] Live Divvy Demo + Pillow Cube
DTSTART;TZID=America/Denver:20210513T140000
DTEND;TZID=America/Denver:20210513T143000
DTSTAMP:20260423T095445Z
TRANSP:OPAQUE
STATUS:CONFIRMED
SEQUENCE:0
X-MICROSOFT-CDO-BUSYSTATUS:BUSY
BEGIN:VALARM
TRIGGER:-PT30M
ACTION:DISPLAY
DESCRIPTION:Reminder
END:VALARM
END:VEVENT
END:VCALENDAR