BEGIN:VCALENDAR
PRODID:-//AddEvent Inc//AddEvent.com v1.7//EN
VERSION:2.0
BEGIN:VTIMEZONE
TZID:America/Sao_Paulo
BEGIN:STANDARD
DTSTART:20190216T230000
TZOFFSETFROM:-0300
TZOFFSETTO:-0300
TZNAME:-03
END:STANDARD
END:VTIMEZONE
BEGIN:VEVENT
DESCRIPTION:Ya completaste tu registro a nuestro próximo PIC LIVE "Prevención\, Control y Erradicación de enfermedades porcinas en Latinoamérica: INFLUENZA"\n\nPodrá acceder al evento en vivo a través de este enlace: \n🌐 https://www.youtube.com/live/hr9Wswm6pnghttps://www.youtube.com/watch?v=2Wep6Wuxi8Q\n\n\n\n------\n\nPowered by addevent.com \nShare your next event with us!\n
X-ALT-DESC;FMTTYPE=text/html:<div data-core-v316-plus="true" data-element_type="container" data-id="e60b152" data-settings="{"><div data-element_type="widget" data-id="28aa40d" data-widget_type="heading.default"><h5><span style="font-size: 16px; font-weight: 400;">Ya completaste tu registro a nuestro próximo <strong><span style="color: #ff0000;">PIC LIVE</span></strong> "Prevención, Control y Erradicación de enfermedades porcinas en Latinoamérica:<strong> INFLUENZA</strong>"</span></h5>Podrá acceder al evento en vivo a través de este enlace: <br /><span>🌐</span> <a data-fr-linked="true" href="https://www.youtube.com/live/hr9Wswm6png"></a><a data-fr-linked="true" href="https://www.youtube.com/watch?v=2Wep6Wuxi8Q">https://www.youtube.com/watch?v=2Wep6Wuxi8Q</a></div></div><br><br><br /><br />------<br /><br />Powered by addevent.com <br>Share your next event with us!<br>
UID:1776600514addeventcom
SUMMARY:Prevención\, Control y Erradicación de enfermedades porcinas en Latinoamérica
DTSTART;TZID=America/Sao_Paulo:20250626T183000
DTEND;TZID=America/Sao_Paulo:20250626T200000
DTSTAMP:20260419T120834Z
TRANSP:OPAQUE
STATUS:CONFIRMED
SEQUENCE:0
LOCATION:https://www.youtube.com/watch?v=2Wep6Wuxi8Q
X-MICROSOFT-CDO-BUSYSTATUS:BUSY
BEGIN:VALARM
TRIGGER:-PT60M
ACTION:DISPLAY
DESCRIPTION:Reminder
END:VALARM
END:VEVENT
END:VCALENDAR