BEGIN:VCALENDAR
PRODID:-//AddEvent Inc//AddEvent.com v1.7//EN
VERSION:2.0
BEGIN:VTIMEZONE
TZID:America/New_York
BEGIN:STANDARD
DTSTART:20261101T010000
RRULE:FREQ=YEARLY;BYDAY=1SU;BYMONTH=11
TZOFFSETFROM:-0400
TZOFFSETTO:-0500
TZNAME:EST
END:STANDARD
BEGIN:DAYLIGHT
DTSTART:20260308T030000
RRULE:FREQ=YEARLY;BYDAY=2SU;BYMONTH=3
TZOFFSETFROM:-0500
TZOFFSETTO:-0400
TZNAME:EDT
END:DAYLIGHT
END:VTIMEZONE
BEGIN:VEVENT
DESCRIPTION:Learn how New York Life leverages generative AI for business transformation on CXOTalk episode 845. Gain practical insights on aligning AI strategy\, fostering agility\, and enhancing CX.\n\n
X-ALT-DESC;FMTTYPE=text/html:Learn how New York Life leverages generative AI for business transformation on CXOTalk episode 845. Gain practical insights on aligning AI strategy, fostering agility, and enhancing CX.<br><br>
UID:1777135610addeventcom
SUMMARY:CXOTalk #845: Generative AI at New York Life
DTSTART;TZID=America/New_York:20240712T130000
DTEND;TZID=America/New_York:20240712T143000
DTSTAMP:20260425T164650Z
TRANSP:OPAQUE
STATUS:CONFIRMED
SEQUENCE:0
LOCATION:https://www.cxotalk.com/episode/generative-ai-and-business-transformation-at-new-york-life
X-MICROSOFT-CDO-BUSYSTATUS:BUSY
BEGIN:VALARM
TRIGGER:-PT30M
ACTION:DISPLAY
DESCRIPTION:Reminder
END:VALARM
END:VEVENT
END:VCALENDAR