BEGIN:VCALENDAR
PRODID:-//AddEvent Inc//AddEvent.com v1.7//EN
VERSION:2.0
BEGIN:VTIMEZONE
TZID:Europe/Prague
BEGIN:STANDARD
DTSTART:20261025T020000
RRULE:FREQ=YEARLY;BYDAY=-1SU;BYMONTH=10
TZOFFSETFROM:+0200
TZOFFSETTO:+0100
TZNAME:CET
END:STANDARD
BEGIN:DAYLIGHT
DTSTART:20260329T030000
RRULE:FREQ=YEARLY;BYDAY=-1SU;BYMONTH=3
TZOFFSETFROM:+0100
TZOFFSETTO:+0200
TZNAME:CEST
END:DAYLIGHT
END:VTIMEZONE
BEGIN:VEVENT
DESCRIPTION:Hledáte finanční prostředky k zajištění umělecké rezidence\, návštěvy partnerů\, stínování partnerských institucí\, účasti na konferencích a veletrzích? Kancelář Kreativní Evropa pro vás připravila webinář o finančních nástrojích na pokrytí zahraničních (zejména evropských) cest pro umělce a pracovníky v kultuře. Kromě Evropských programů (Kreativní Evropa\, i-Portunus a Erasmus+) představíme i další finanční a informační zdroje. \n\nVíce informací: https://www.kreativnievropa.cz/kultura/udalost/mobilita-v-eu-prehled-grantovych-prilezitosti/\n\nKontakt: Hana Šormová T 721 947 355 E hana.sormova@kreativnievropa.cz\n\n------\n\nPowered by addevent.com \nShare your next event with us!\n
X-ALT-DESC;FMTTYPE=text/html:Hledáte finanční prostředky k zajištění umělecké rezidence, návštěvy partnerů, stínování partnerských institucí, účasti na konferencích a veletrzích? Kancelář Kreativní Evropa pro vás připravila webinář o finančních nástrojích na pokrytí zahraničních (zejména evropských) cest pro umělce a pracovníky v kultuře. Kromě Evropských programů (Kreativní Evropa, i-Portunus a Erasmus+) představíme i další finanční a informační zdroje. <br><br>Více informací: https://www.kreativnievropa.cz/kultura/udalost/mobilita-v-eu-prehled-grantovych-prilezitosti/<br><br>Kontakt: Hana Šormová T 721 947 355 E hana.sormova@kreativnievropa.cz<br /><br />------<br /><br />Powered by addevent.com <br>Share your next event with us!<br>
UID:1776857727addeventcom
SUMMARY:Mobilita v EU: Přehled grantových příležitostí
DTSTART;TZID=Europe/Prague:20211012T100000
DTEND;TZID=Europe/Prague:20211012T120000
DTSTAMP:20260422T113527Z
TRANSP:OPAQUE
STATUS:CONFIRMED
SEQUENCE:0
LOCATION:Online
X-MICROSOFT-CDO-BUSYSTATUS:BUSY
BEGIN:VALARM
TRIGGER:-PT1440M
ACTION:DISPLAY
DESCRIPTION:Reminder
END:VALARM
END:VEVENT
END:VCALENDAR