BEGIN:VCALENDAR
PRODID:-//AddEvent Inc//AddEvent.com v1.7//EN
VERSION:2.0
BEGIN:VTIMEZONE
TZID:America/New_York
BEGIN:STANDARD
DTSTART:20261101T010000
RRULE:FREQ=YEARLY;BYDAY=1SU;BYMONTH=11
TZOFFSETFROM:-0400
TZOFFSETTO:-0500
TZNAME:EST
END:STANDARD
BEGIN:DAYLIGHT
DTSTART:20260308T030000
RRULE:FREQ=YEARLY;BYDAY=2SU;BYMONTH=3
TZOFFSETFROM:-0500
TZOFFSETTO:-0400
TZNAME:EDT
END:DAYLIGHT
END:VTIMEZONE
BEGIN:VEVENT
DESCRIPTION:NEWS CONFERENCE – Advocates for Highway and Auto Safety https://saferoads.org/ will release the 2024 Roadmap to Safety rating the 50 states and DC on passage of 16 proven effective traffic safety laws and available countermeasures to reduce crashes\, injuries and deaths. In 2022\, an estimated 42\,795 people were killed on U.S. roads. Traffic fatalities remain historically high. \n\nThe 2024 Roadmap report will:\n\n• Rate each state and DC as Green\, Yellow or Red based on their progress toward enacting the 16 optimal traffic safety laws.\n• Call on Governors and state legislatures to close gaps in their laws during their 2024 sessions to address drunk driving\, distracted driving\, young driver safety\, seat belt and child safety seat use\, motorcycle helmet use\, and speeding by employing automated enforcement.\n• Urge the U.S. Transportation Department to step up implementing pending federal vehicle safety standards\, including those required by the landmark bipartisan Infrastructure Investment and Jobs Act of 2021 (Pub. L. 117-58).\n\nThe news conference may be attended either in person or online via livestream:\n\n• In-person: 750 First Street\, NE\, Washington\, DC – 9th Floor Conference Center\n• Livestream: saferoads.org https://saferoads.org/\n\nMedia Advisory https://saferoads.org/2023/11/28/media-alert-2024-roadmap-to-safety-report-to-be-released-on-december-5-2023/\n\nCONTACT: Bill Bronrott\, 202-270-4415\, bronrott@gmail.com\n\n------\n\nPowered by addevent.com \nShare your next event with us!\n
X-ALT-DESC;FMTTYPE=text/html:NEWS CONFERENCE – <a href="https://saferoads.org/" rel="noopener noreferrer" target="_blank">Advocates for Highway and Auto Safety</a> will release the 2024 <strong><em>Roadmap to Safety</em></strong> rating the 50 states and DC on passage of 16 proven effective traffic safety laws and available countermeasures to reduce crashes, injuries and deaths. In 2022, an estimated 42,795 people were killed on U.S. roads. Traffic fatalities remain historically high. <br><br>The 2024 Roadmap report will:<ul><li>Rate each state and DC as <strong>Green</strong>, <strong>Yellow</strong> or <strong>Red</strong> based on their progress toward enacting the 16 optimal traffic safety laws.</li><li>Call on Governors and state legislatures to close gaps in their laws during their 2024 sessions to address drunk driving, distracted driving, young driver safety, seat belt and child safety seat use, motorcycle helmet use, and speeding by employing automated enforcement.</li><li>Urge the U.S. Transportation Department to step up implementing pending federal vehicle safety standards, including those required by the landmark bipartisan Infrastructure Investment and Jobs Act of 2021 (Pub. L. 117-58).</li></ul>The news conference may be attended either in person or online via livestream:<ul><li>In-person: 750 First Street, NE, Washington, DC – 9th Floor Conference Center</li><li>Livestream: <a href="https://saferoads.org/" rel="noopener noreferrer" target="_blank">saferoads.org</a></li></ul><a href="https://saferoads.org/2023/11/28/media-alert-2024-roadmap-to-safety-report-to-be-released-on-december-5-2023/" rel="noopener noreferrer" target="_blank">Media Advisory</a><br><br>CONTACT: Bill Bronrott, 202-270-4415, bronrott@gmail.com<br /><br />------<br /><br />Powered by addevent.com <br>Share your next event with us!<br>
UID:1776599770addeventcom
SUMMARY:RELEASE OF THE 2024 ROADMAP TO SAFETY
DTSTART;TZID=America/New_York:20231205T103000
DTEND;TZID=America/New_York:20231205T113000
DTSTAMP:20260419T115610Z
TRANSP:OPAQUE
STATUS:CONFIRMED
SEQUENCE:0
LOCATION:750 First Street\, NE\, Washington\, DC – 9th Floor Conference Center.
X-MICROSOFT-CDO-BUSYSTATUS:BUSY
BEGIN:VALARM
TRIGGER:-PT30M
ACTION:DISPLAY
DESCRIPTION:Reminder
END:VALARM
END:VEVENT
END:VCALENDAR