BEGIN:VCALENDAR
PRODID:-//AddEvent Inc//AddEvent.com v1.7//EN
VERSION:2.0
BEGIN:VTIMEZONE
TZID:Europe/Paris
BEGIN:STANDARD
DTSTART:20261025T020000
RRULE:FREQ=YEARLY;BYDAY=-1SU;BYMONTH=10
TZOFFSETFROM:+0200
TZOFFSETTO:+0100
TZNAME:CET
END:STANDARD
BEGIN:DAYLIGHT
DTSTART:20260329T030000
RRULE:FREQ=YEARLY;BYDAY=-1SU;BYMONTH=3
TZOFFSETFROM:+0100
TZOFFSETTO:+0200
TZNAME:CEST
END:DAYLIGHT
END:VTIMEZONE
BEGIN:VEVENT
DESCRIPTION:Seminar URL: https://www.pianogroove.com/live-seminars/new-orleans-blues-with-jon-cleary/\n\nAn open Q&A session with Grammy winning blues and funk specialist Jon Cleary. Ask questions live or submit in them advance and tune in to listen to some funky New Orleans Blues.\n\n
X-ALT-DESC;FMTTYPE=text/html:Seminar URL: https://www.pianogroove.com/live-seminars/new-orleans-blues-with-jon-cleary/<br><br>An open Q&amp;A session with Grammy winning blues and funk specialist Jon Cleary. Ask questions live or submit in them advance and tune in to listen to some funky New Orleans Blues.<br><br>
UID:1776606845addeventcom
SUMMARY:New Orleans Blues with Jon Cleary
DTSTART;TZID=Europe/Paris:20220420T180000
DTEND;TZID=Europe/Paris:20220421T190000
DTSTAMP:20260419T135405Z
TRANSP:OPAQUE
STATUS:CONFIRMED
SEQUENCE:0
LOCATION:https://www.pianogroove.com/live-seminars/new-orleans-blues-with-jon-cleary/
X-MICROSOFT-CDO-BUSYSTATUS:BUSY
BEGIN:VALARM
TRIGGER:-PT30M
ACTION:DISPLAY
DESCRIPTION:Reminder
END:VALARM
END:VEVENT
END:VCALENDAR