BEGIN:VCALENDAR
PRODID:-//AddEvent Inc//AddEvent.com v1.7//EN
VERSION:2.0
BEGIN:VTIMEZONE
TZID:Asia/Nicosia
BEGIN:STANDARD
DTSTART:20261025T030000
RRULE:FREQ=YEARLY;BYDAY=-1SU;BYMONTH=10
TZOFFSETFROM:+0300
TZOFFSETTO:+0200
TZNAME:EET
END:STANDARD
BEGIN:DAYLIGHT
DTSTART:20260329T040000
RRULE:FREQ=YEARLY;BYDAY=-1SU;BYMONTH=3
TZOFFSETFROM:+0200
TZOFFSETTO:+0300
TZNAME:EEST
END:DAYLIGHT
END:VTIMEZONE
BEGIN:VEVENT
DESCRIPTION:Η Διεθνής Έδρα Βιοηθικής (International Chair in Bioethics)\, με αφορμή την Παγκόσμια Ημέρα της Βιοηθικής\, διοργανώνει διεθνές συνέδριο βιοηθικής με τίτλο «Προστασία των Μελλοντικών Γενεών». Το συνέδριο\, το οποίο διοργανώνεται στις 18 Οκτωβρίου 2023 από το Ελληνικό Κλιμάκιο International Chair in Bioethics (WMA Cooperative Center) και το Εργαστήριο Εφαρμοσμένης Φιλοσοφίας του Εθνικού και Καποδιστριακού Πανεπιστημίου Αθηνών\, την Εθνική Επιτροπή Βιοηθικής & Τεχνοηθικής το Ανοικτό Πανεπιστήμιο Κύπρου (Μεταπτυχιακό πρόγραμμα σπουδών «Βιοηθική – Ιατρική Ηθική»)\, το Ευρωπαϊκό Εργαστήριο Βιοηθικής Τεχνοηθικής και Δικαίου και το  Ερευνητικό Κέντρο Βιοπολιτικής του Παντείου Πανεπιστημίου\, θα είναι υβριδικό (με φυσική παρουσία και διαδικτυακή μετάδοση).\n\nΣτο συνέδριο που θα διεξαχθεί σε εγκαταστάσεις του Εθνικού & Καποδιστριακού Πανεπιστημίου Αθηνών θα συμμετάσχουν σημαίνοντες επιστήμονες από διάφορους κλάδους\, από την Ελλάδα\, την Κύπρο και το εξωτερικό\, οι οποίοι θα αναλύσουν από την ιδιαίτερη σκοπιά τους τα εν λόγω βιοηθικά ζητήματα. Το συνέδριο θα μεταδοθεί και σε live streaming από το Εθνικό και Καποδιστριακό Πανεπιστήμιο Αθηνών YouTube channel.\n\n\n\n------\n\nPowered by addevent.com \nShare your next event with us!\n
X-ALT-DESC;FMTTYPE=text/html:Η Διεθνής Έδρα Βιοηθικής (International Chair in Bioethics), με αφορμή την Παγκόσμια Ημέρα της Βιοηθικής, διοργανώνει<strong> διεθνές συνέδριο βιοηθικής</strong> με τίτλο «<strong>Προστασία των Μελλοντικών Γενεών</strong>». Το συνέδριο, το οποίο διοργανώνεται στις<strong> 18 Οκτωβρίου 2023 </strong>από το Ελληνικό Κλιμάκιο International Chair in Bioethics (WMA Cooperative Center) και το Εργαστήριο Εφαρμοσμένης Φιλοσοφίας του Εθνικού και Καποδιστριακού Πανεπιστημίου Αθηνών, την Εθνική Επιτροπή Βιοηθικής &amp; Τεχνοηθικής το Ανοικτό Πανεπιστήμιο Κύπρου (Μεταπτυχιακό πρόγραμμα σπουδών «Βιοηθική – Ιατρική Ηθική»), το Ευρωπαϊκό Εργαστήριο Βιοηθικής Τεχνοηθικής και Δικαίου και το  Ερευνητικό Κέντρο Βιοπολιτικής του Παντείου Πανεπιστημίου, θα είναι <strong>υβριδικό </strong>(με φυσική παρουσία και διαδικτυακή μετάδοση).<br><br>Στο συνέδριο που θα διεξαχθεί σε εγκαταστάσεις του Εθνικού &amp; Καποδιστριακού Πανεπιστημίου Αθηνών θα συμμετάσχουν σημαίνοντες επιστήμονες από διάφορους κλάδους, από την Ελλάδα, την Κύπρο και το εξωτερικό, οι οποίοι θα αναλύσουν από την ιδιαίτερη σκοπιά τους τα εν λόγω βιοηθικά ζητήματα. Το συνέδριο θα μεταδοθεί και σε live streaming από το Εθνικό και Καποδιστριακό Πανεπιστήμιο Αθηνών YouTube channel.<br><br><br /><br />------<br /><br />Powered by addevent.com <br>Share your next event with us!<br>
UID:1776784466addeventcom
SUMMARY:Υβριδικό Συνέδριο Βιοηθικής: Προστασία των Μελλοντικών Γενεών
DTSTART;TZID=Asia/Nicosia:20231018T093000
DTEND;TZID=Asia/Nicosia:20231018T150000
DTSTAMP:20260421T151426Z
TRANSP:OPAQUE
STATUS:CONFIRMED
SEQUENCE:0
X-MICROSOFT-CDO-BUSYSTATUS:BUSY
BEGIN:VALARM
TRIGGER:-PT120M
ACTION:DISPLAY
DESCRIPTION:Reminder
END:VALARM
END:VEVENT
END:VCALENDAR