BEGIN:VCALENDAR
PRODID:-//AddEvent Inc//AddEvent.com v1.7//EN
VERSION:2.0
BEGIN:VTIMEZONE
TZID:America/Los_Angeles
BEGIN:STANDARD
DTSTART:20261101T010000
RRULE:FREQ=YEARLY;BYDAY=1SU;BYMONTH=11
TZOFFSETFROM:-0700
TZOFFSETTO:-0800
TZNAME:PST
END:STANDARD
BEGIN:DAYLIGHT
DTSTART:20260308T030000
RRULE:FREQ=YEARLY;BYDAY=2SU;BYMONTH=3
TZOFFSETFROM:-0800
TZOFFSETTO:-0700
TZNAME:PDT
END:DAYLIGHT
END:VTIMEZONE
BEGIN:VEVENT
DESCRIPTION:The daughter of Holocaust survivor Steve Adler\, Barbara shares her family's story of living in Berlin in the 1930s and eventually finding refuge in England. After her grandfather was arrested and imprisoned in Sachsenhausen in 1938\, the family desperately looked for avenues to escape Germany. Only 9 years old\, Barbara's father Steve was sent alone on the Kindertransport (children's transport) to England. Kindertransports were organized with British government sanction\, giving refuge to approximately 10\,000 mostly Jewish children from Nazi occupied countries. \n\nBarbara is an attorney\, a mother\, and recently started a non-profit organization to help folks in need with elder law. She is also the co-author\, with Steve\, of a 2017 book about families and aging\, “When I Need Your Help I’ll Let You Know.” Barbara is very proud to share her father’s story as a Legacy Speaker in the Center’s Speakers Bureau.\n\n------\n\nPowered by addevent.com \nShare your next event with us!\n
X-ALT-DESC;FMTTYPE=text/html:The daughter of Holocaust survivor Steve Adler, Barbara shares her family's story of living in Berlin in the 1930s and eventually finding refuge in England. After her grandfather was arrested and imprisoned in Sachsenhausen in 1938, the family desperately looked for avenues to escape Germany. Only 9 years old, Barbara's father Steve was sent alone on the Kindertransport (children's transport) to England. Kindertransports were organized with British government sanction, giving refuge to approximately 10,000 mostly Jewish children from Nazi occupied countries. <br><br>Barbara is an attorney, a mother, and recently started a non-profit organization to help folks in need with elder law. She is also the co-author, with Steve, of a 2017 book about families and aging, “When I Need Your Help I’ll Let You Know.” Barbara is very proud to share her father’s story as a Legacy Speaker in the Center’s Speakers Bureau.<br /><br />------<br /><br />Powered by addevent.com <br>Share your next event with us!<br>
UID:1776692858addeventcom
SUMMARY:Barbara Adler West\, Legacy Speaker - Lunch & Learn
DTSTART;TZID=America/Los_Angeles:20200623T120000
DTEND;TZID=America/Los_Angeles:20200623T130000
DTSTAMP:20260420T134738Z
TRANSP:OPAQUE
STATUS:CONFIRMED
SEQUENCE:0
LOCATION:https://us02web.zoom.us/j/87443813127
X-MICROSOFT-CDO-BUSYSTATUS:BUSY
BEGIN:VALARM
TRIGGER:-PT60M
ACTION:DISPLAY
DESCRIPTION:Reminder
END:VALARM
END:VEVENT
END:VCALENDAR