BEGIN:VCALENDAR
PRODID:-//AddEvent Inc//AddEvent.com v1.7//EN
VERSION:2.0
BEGIN:VTIMEZONE
TZID:America/Chicago
BEGIN:STANDARD
DTSTART:20261101T010000
RRULE:FREQ=YEARLY;BYDAY=1SU;BYMONTH=11
TZOFFSETFROM:-0500
TZOFFSETTO:-0600
TZNAME:CST
END:STANDARD
BEGIN:DAYLIGHT
DTSTART:20260308T030000
RRULE:FREQ=YEARLY;BYDAY=2SU;BYMONTH=3
TZOFFSETFROM:-0600
TZOFFSETTO:-0500
TZNAME:CDT
END:DAYLIGHT
END:VTIMEZONE
BEGIN:VEVENT
DESCRIPTION:Brands can’t continue to broadcast information to the nines and then just expect to engage people. That’s not the way people are consuming social\, they are really listening to their friends and family. To inspire engagement and participation in a real way\, it’s imperative that you find the right content for and arm your advocates with the means to share. Join us for a thought provoking #SproutChat with our own Product Marketing Specialist\, Kim Blight\, about ways to get more eyes on your brands content without sacrificing authenticity. We’ll talk about how to leverage advocacy to amplify content and how to elevate your existing social posts by engaging your employees\, giving them the space to add in their own voice and tapping into the power of their networks.\n\n------\n\nPowered by addevent.com \nShare your next event with us!\n
X-ALT-DESC;FMTTYPE=text/html:Brands can’t continue to broadcast information to the nines and then just expect to engage people. That’s not the way people are consuming social, they are really listening to their friends and family. To inspire engagement and participation in a real way, it’s imperative that you find the right content for and arm your advocates with the means to share. Join us for a thought provoking #SproutChat with our own Product Marketing Specialist, Kim Blight, about ways to get more eyes on your brands content without sacrificing authenticity. We’ll talk about how to leverage advocacy to amplify content and how to elevate your existing social posts by engaging your employees, giving them the space to add in their own voice and tapping into the power of their networks.<br /><br />------<br /><br />Powered by addevent.com <br>Share your next event with us!<br>
UID:1777119496addeventcom
SUMMARY:#SproutChat: How to Amplify Brand Content and Stay Genuine
DTSTART;TZID=America/Chicago:20181024T140000
DTEND;TZID=America/Chicago:20181024T150000
DTSTAMP:20260425T121816Z
TRANSP:OPAQUE
STATUS:CONFIRMED
SEQUENCE:0
X-MICROSOFT-CDO-BUSYSTATUS:BUSY
END:VEVENT
END:VCALENDAR