BEGIN:VCALENDAR
PRODID:-//AddEvent Inc//AddEvent.com v1.7//EN
VERSION:2.0
BEGIN:VEVENT
DESCRIPTION:Amendments to the Trusts (Jersey) Law 1984\nConsultation closes: 16 August 2024\n\nThe Trusts (Jersey) Law 1984 is under review to ensure that it continues to support the needs of those establishing Jersey law trusts\, together with their beneficiaries and trustees. Any agreed amendments will be brought forward during 2024 for adoption.\n\n
X-ALT-DESC;FMTTYPE=text/html:<strong>Amendments to the Trusts (Jersey) Law 1984</strong><br />Consultation closes: 16 August 2024<br><br>The Trusts (Jersey) Law 1984 is under review to ensure that it continues to support the needs of those establishing Jersey law trusts, together with their beneficiaries and trustees. Any agreed amendments will be brought forward during 2024 for adoption.<br><br>
UID:1776621384addeventcom
SUMMARY:Ogier reminder - Amendments to the Trusts (Jersey) Law 1984
DTSTART;VALUE=DATE:20240816
DTEND;VALUE=DATE:20240817
DTSTAMP:20260419T175624Z
TRANSP:OPAQUE
STATUS:CONFIRMED
SEQUENCE:0
LOCATION:Jersey
X-MICROSOFT-CDO-BUSYSTATUS:BUSY
BEGIN:VALARM
TRIGGER:-PT10080M
ACTION:DISPLAY
DESCRIPTION:Reminder
END:VALARM
END:VEVENT
END:VCALENDAR