BEGIN:VCALENDAR
PRODID:-//AddEvent Inc//AddEvent.com v1.7//EN
VERSION:2.0
BEGIN:VTIMEZONE
TZID:America/Los_Angeles
BEGIN:STANDARD
DTSTART:20261101T010000
RRULE:FREQ=YEARLY;BYDAY=1SU;BYMONTH=11
TZOFFSETFROM:-0700
TZOFFSETTO:-0800
TZNAME:PST
END:STANDARD
BEGIN:DAYLIGHT
DTSTART:20260308T030000
RRULE:FREQ=YEARLY;BYDAY=2SU;BYMONTH=3
TZOFFSETFROM:-0800
TZOFFSETTO:-0700
TZNAME:PDT
END:DAYLIGHT
END:VTIMEZONE
BEGIN:VEVENT
DESCRIPTION:Thank you for registering for WalkMe Elevate\, the only event designed to propel DAP Professionals to the next phase of their career development. This is the most essential event of the year for people finding a career in DAP. You won’t want to miss it.\n\n------\n\nPowered by addevent.com \nShare your next event with us!\n
X-ALT-DESC;FMTTYPE=text/html:Thank you for registering for WalkMe Elevate, the only event designed to propel DAP Professionals to the next phase of their career development. This is the most essential event of the year for people finding a career in DAP. You won’t want to miss it.<br /><br />------<br /><br />Powered by addevent.com <br>Share your next event with us!<br>
UID:1776844308addeventcom
SUMMARY:WalkMe Elevate 2022
DTSTART;TZID=America/Los_Angeles:20221025T090000
DTEND;TZID=America/Los_Angeles:20221025T120000
DTSTAMP:20260422T075148Z
TRANSP:OPAQUE
STATUS:CONFIRMED
SEQUENCE:0
LOCATION:https://www.walkme.com/joinelevate
X-MICROSOFT-CDO-BUSYSTATUS:BUSY
BEGIN:VALARM
TRIGGER:-PT30M
ACTION:DISPLAY
DESCRIPTION:Reminder
END:VALARM
END:VEVENT
END:VCALENDAR