BEGIN:VCALENDAR
PRODID:-//AddEvent Inc//AddEvent.com v1.7//EN
VERSION:2.0
BEGIN:VTIMEZONE
TZID:America/Detroit
BEGIN:STANDARD
DTSTART:20261101T010000
RRULE:FREQ=YEARLY;BYDAY=1SU;BYMONTH=11
TZOFFSETFROM:-0400
TZOFFSETTO:-0500
TZNAME:EST
END:STANDARD
BEGIN:DAYLIGHT
DTSTART:20260308T030000
RRULE:FREQ=YEARLY;BYDAY=2SU;BYMONTH=3
TZOFFSETFROM:-0500
TZOFFSETTO:-0400
TZNAME:EDT
END:DAYLIGHT
END:VTIMEZONE
BEGIN:VEVENT
DESCRIPTION:AutoTech: Detroit brings together the full automotive tech industry to immerse attendees in the future of automotive\, by showcasing the newest tech and the latest vehicles. We gather the automotive and technology communities like no other event.\n\n------\n\nPowered by addevent.com \nShare your next event with us!\n
X-ALT-DESC;FMTTYPE=text/html:AutoTech: Detroit brings together the full automotive tech industry to immerse attendees in the future of automotive, by showcasing the newest tech and the latest vehicles. We gather the automotive and technology communities like no other event.<br /><br />------<br /><br />Powered by addevent.com <br>Share your next event with us!<br>
UID:1776769907addeventcom
SUMMARY:AutoTech: Detroit 2023
DTSTART;TZID=America/Detroit:20230607T090000
DTEND;TZID=America/Detroit:20230608T160000
DTSTAMP:20260421T111147Z
TRANSP:OPAQUE
STATUS:CONFIRMED
SEQUENCE:0
LOCATION:46100 Grand River Ave\, Novi\, MI 48374
X-MICROSOFT-CDO-BUSYSTATUS:BUSY
BEGIN:VALARM
TRIGGER:-PT30M
ACTION:DISPLAY
DESCRIPTION:Reminder
END:VALARM
END:VEVENT
END:VCALENDAR