BEGIN:VCALENDAR
PRODID:-//AddEvent Inc//AddEvent.com v1.7//EN
VERSION:2.0
BEGIN:VTIMEZONE
TZID:America/Toronto
BEGIN:STANDARD
DTSTART:20261101T010000
RRULE:FREQ=YEARLY;BYDAY=1SU;BYMONTH=11
TZOFFSETFROM:-0400
TZOFFSETTO:-0500
TZNAME:EST
END:STANDARD
BEGIN:DAYLIGHT
DTSTART:20260308T030000
RRULE:FREQ=YEARLY;BYDAY=2SU;BYMONTH=3
TZOFFSETFROM:-0500
TZOFFSETTO:-0400
TZNAME:EDT
END:DAYLIGHT
END:VTIMEZONE
BEGIN:VEVENT
DESCRIPTION:Join Resilient LLP for an early morning run or walk on June 11\, 2024 before Carbon Forward North America https://carbon-forward.com/carbon-forward-conference-north-america-2024/!\n\n• Your Toronto Hosts: The Resilient LLP Team https://resilientllp.com/professionals/\n• What: A fun and easy run (5-7km) or walk (3-4km) along the Toronto waterfront. Rain or shine! \n• Where: Meet at 6:30am at Grange Park - Henry Moore's Large Two Forms https://maps.app.goo.gl/Sy2EL237p1mAbZD7A\, right behind the AGO. After the run/walk\, we'll gather at Jimmy's Coffee https://maps.app.goo.gl/nCjZ2kMFqEsVN1wv8 (166 McCaul St\, at Elm).\n• When: June 11\, 2024\, 6:30am (Conference registration starts at 8:30am\, with the welcome address at 9:00am.)\n• RSVP: Let us know to expect you! https://forms.gle/meCizMz891vs9CkXA (There is no obligation to RSVP in advance.)\n\nPlease contact Lisa DeMarco (lisa@resilientllp.com mailto:lisa@resilientllp.com) or Jonathan McGillivray (jonathan@resilientllp.com mailto:jonathan@resilientllp.com) with any questions or comments. We look forward to seeing you on June 11!\n\n\n\n------\n\nPowered by addevent.com \nShare your next event with us!\n
X-ALT-DESC;FMTTYPE=text/html:<p style="margin: 0cm;font-size: medium;font-family: Calibri, sans-serif;color: rgb(0, 0, 0);font-style: normal;font-weight: 400;text-align: start;text-indent: 0px;text-decoration: none;"><strong><span style="font-size:15px;">Join Resilient LLP for an early morning run or walk on June 11, 2024 before </span></strong><span style="font-size:15px;"><a href="https://carbon-forward.com/carbon-forward-conference-north-america-2024/" style="color: rgb(149, 79, 114);text-decoration: underline;"><strong>Carbon Forward North America</strong></a><strong>!</strong></span></p><ul style="list-style-type: disc;margin-left:undefined;"><li><strong><span style="font-size:15px;">Your Toronto Hosts:</span></strong><span style="font-size:15px;"> <a href="https://resilientllp.com/professionals/" style="color: rgb(149, 79, 114);text-decoration: underline;">The Resilient LLP Team</a></span></li><li><strong><span style="font-size:15px;">What:</span></strong><span style="font-size:15px;"> A fun and easy run (5-7km) or walk (3-4km) along the Toronto waterfront. Rain or shine! </span></li><li><strong><span style="font-size:15px;">Where:</span></strong><span style="font-size:15px;"> Meet at 6:30am at <a href="https://maps.app.goo.gl/Sy2EL237p1mAbZD7A" style="color: rgb(149, 79, 114);text-decoration: underline;">Grange Park - Henry Moore's Large Two Forms</a>, right behind the AGO. After the run/walk, we'll gather at<span> </span><a href="https://maps.app.goo.gl/nCjZ2kMFqEsVN1wv8" style="color: rgb(149, 79, 114);text-decoration: underline;">Jimmy's Coffee</a><span> </span>(166 McCaul St, at Elm).</span></li><li><strong><span style="font-size:15px;">When:</span></strong><span style="font-size:15px;"> June 11, 2024, 6:30am (Conference registration starts at 8:30am, with the welcome address at 9:00am.)</span></li><li><strong><span style="font-size:15px;">RSVP:<span> </span></span></strong><span style="font-size:15px;"><a href="https://forms.gle/meCizMz891vs9CkXA" style="color: rgb(149, 79, 114);text-decoration: underline;">Let us know to expect you!</a><span> </span>(There is no obligation to RSVP in advance.)</span></li></ul><p style="margin: 0cm;font-size: medium;font-family: Calibri, sans-serif;color: rgb(0, 0, 0);font-style: normal;font-weight: 400;text-align: start;text-indent: 0px;text-decoration: none;"><span style="font-size:15px;">Please contact Lisa DeMarco (<a href="mailto:lisa@resilientllp.com" style="color: rgb(149, 79, 114);text-decoration: underline;">lisa@resilientllp.com</a>) or Jonathan McGillivray (<a href="mailto:jonathan@resilientllp.com" style="color: rgb(149, 79, 114);text-decoration: underline;">jonathan@resilientllp.com</a>) with any questions or comments. We look forward to seeing you on June 11!</span></p><br /><br />------<br /><br />Powered by addevent.com <br>Share your next event with us!<br>
UID:1777050554addeventcom
SUMMARY:Resilient LLP Run/Walk
DTSTART;TZID=America/Toronto:20240611T063000
DTEND;TZID=America/Toronto:20240611T073000
DTSTAMP:20260424T170914Z
TRANSP:OPAQUE
STATUS:CONFIRMED
SEQUENCE:0
LOCATION:https://maps.app.goo.gl/S9dWsf6WRhSHdckv9
X-MICROSOFT-CDO-BUSYSTATUS:BUSY
BEGIN:VALARM
TRIGGER:-PT15M
ACTION:DISPLAY
DESCRIPTION:Reminder
END:VALARM
END:VEVENT
END:VCALENDAR