BEGIN:VCALENDAR
PRODID:-//AddEvent Inc//AddEvent.com v1.7//EN
VERSION:2.0
BEGIN:VTIMEZONE
TZID:Asia/Nicosia
BEGIN:STANDARD
DTSTART:20261025T030000
RRULE:FREQ=YEARLY;BYDAY=-1SU;BYMONTH=10
TZOFFSETFROM:+0300
TZOFFSETTO:+0200
TZNAME:EET
END:STANDARD
BEGIN:DAYLIGHT
DTSTART:20260329T040000
RRULE:FREQ=YEARLY;BYDAY=-1SU;BYMONTH=3
TZOFFSETFROM:+0200
TZOFFSETTO:+0300
TZNAME:EEST
END:DAYLIGHT
END:VTIMEZONE
BEGIN:VEVENT
DESCRIPTION:Το Προπτυχιακό πρόγραμμα «Νομική https://www.ouc.ac.cy/index.php/el/studies/programmes/bachelor/nomiki» του Ανοικτού Πανεπιστημίου Κύπρου (ΑΠΚΥ) και η Έδρα Jean Monnet https://www.ouc.ac.cy/index.php/el/the-university-4/jeanmonnetchair «Θεσμοί της Ευρωπαϊκής Ένωσης\, Δικαιώματα και Δικαστική Ολοκλήρωση» διοργανώνουν τηλεδιάλεξη με τίτλο «Η κλιματική αλλαγή ενώπιον των Διεθνών Δικαστηρίων» στις 23 Οκτωβρίου 2024 με τον διεθνούς φήμης Καθηγητή του Διεθνούς Δικαίου Λίνο-Αλέξανδρο Σισιλιάνο https://www.law.uoa.gr/prosopiko/didaskontes_alfabitika/linos_alexandros_sisilianos/ του Εθνικού και Καποδιστριακού Πανεπιστημίου Αθηνών. Η διάλεξη θα αρχίσει στις 18:00 και θα μεταδοθεί ελεύθερα μέσω των εργαλείων τηλεκπαίδευσης του ΑΠΚΥ στον σύνδεσμο: https://tinyurl.com/6d9ynxr7 https://tinyurl.com/6d9ynxr7\n\n\n\n------\n\nPowered by addevent.com \nShare your next event with us!\n
X-ALT-DESC;FMTTYPE=text/html:<p style="margin:0cm;font-size:16px;font-family:"><span style="font-size:15px;font-family:">Το Προπτυχιακό πρόγραμμα «</span><span style="font-size:15px;font-family:"><a href="https://www.ouc.ac.cy/index.php/el/studies/programmes/bachelor/nomiki"><strong>Νομική</strong></a></span><span style="font-size:15px;font-family:">» του </span><span style="color:blue;text-decoration:underline;"><strong><span style="font-size:15px;font-family:">Ανοικτού Πανεπιστημίου Κύπρου</span></strong></span><span style="font-size:15px;font-family:"> <strong>(ΑΠΚΥ)</strong></span><span style="font-size:15px;font-family:"> και η </span><span style="font-size:15px;font-family:"><a href="https://www.ouc.ac.cy/index.php/el/the-university-4/jeanmonnetchair" target="_blank"><strong><span style="color:#1155CC;background:white;">Έδρα Jean Monnet</span></strong></a><strong><span style="color:#222222;background:white;"> «Θεσμοί της Ευρωπαϊκής Ένωσης, Δικαιώματα και Δικαστική Ολοκλήρωση» </span></strong><span style="color:#222222;background:white;">διοργανώνουν <strong>τηλεδιάλεξη</strong> με τίτλο <strong>«Η κλιματική αλλαγή ενώπιον των Διεθνών Δικαστηρίων»</strong> στις <strong>23 Οκτωβρίου 2024 </strong></span></span><span style="font-size:15px;font-family:">με τον </span><strong><span style="font-size:15px;font-family:">διεθνούς φήμης</span></strong><span style="font-size:15px;font-family:"> </span><strong><span style="font-size:15px;font-family:">Καθηγητή του Διεθνούς Δικαίου <a href="https://www.law.uoa.gr/prosopiko/didaskontes_alfabitika/linos_alexandros_sisilianos/">Λίνο-Αλέξανδρο Σισιλιάνο</a> του Εθνικού και Καποδιστριακού Πανεπιστημίου Αθηνών</span></strong><span style="font-size:15px;font-family:">. Η διάλεξη θα αρχίσει </span><strong><span style="font-size:15px;font-family:">στις 18:00 </span></strong><span style="font-size:15px;font-family:">και θα μεταδοθεί ελεύθερα μέσω των εργαλείων τηλεκπαίδευσης του ΑΠΚΥ </span><strong><span style="font-size:15px;font-family:">στον σύνδεσμο: </span></strong><strong><span style="font-size:15px;font-family:"><a href="https://tinyurl.com/6d9ynxr7" target="_blank"><span style="color:#1155CC;background:white;">https://tinyurl.com/6d9ynxr7</span></a></span></strong></p><br /><br />------<br /><br />Powered by addevent.com <br>Share your next event with us!<br>
UID:1776773053addeventcom
SUMMARY:«Η κλιματική αλλαγή ενώπιον των Διεθνών Δικαστηρίων» με τον Καθηγητή Λίνο-Αλέξανδρο Σισιλιάνο
DTSTART;TZID=Asia/Nicosia:20241023T180000
DTEND;TZID=Asia/Nicosia:20241023T193000
DTSTAMP:20260421T120413Z
TRANSP:OPAQUE
STATUS:CONFIRMED
SEQUENCE:0
LOCATION:Online
X-MICROSOFT-CDO-BUSYSTATUS:BUSY
BEGIN:VALARM
TRIGGER:-PT60M
ACTION:DISPLAY
DESCRIPTION:Reminder
END:VALARM
END:VEVENT
END:VCALENDAR