BEGIN:VCALENDAR
PRODID:-//AddEvent Inc//AddEvent.com v1.7//EN
VERSION:2.0
BEGIN:VTIMEZONE
TZID:America/New_York
BEGIN:STANDARD
DTSTART:20261101T010000
RRULE:FREQ=YEARLY;BYDAY=1SU;BYMONTH=11
TZOFFSETFROM:-0400
TZOFFSETTO:-0500
TZNAME:EST
END:STANDARD
BEGIN:DAYLIGHT
DTSTART:20260308T030000
RRULE:FREQ=YEARLY;BYDAY=2SU;BYMONTH=3
TZOFFSETFROM:-0500
TZOFFSETTO:-0400
TZNAME:EDT
END:DAYLIGHT
END:VTIMEZONE
BEGIN:VEVENT
DESCRIPTION:FutureGood is inviting you to a scheduled Zoom meeting.\n\nTopic: Q&A with Trista Harris: Trends in Mental Wellbeing\nTime: Apr 22\, 2026 02:00 PM Eastern Time (US and Canada)\nJoin Zoom Meeting\nhttps://us02web.zoom.us/j/82184903905?pwd=VGFqWmat6LH3h2lQUDVX0V3GX3KDWh.1\n\nMeeting ID: 821 8490 3905\nPasscode: 654151\n\n---\n\nOne tap mobile\n+19292056099\,\,82184903905#\,\,\,\,*654151# US (New York)\n+12532050468\,\,82184903905#\,\,\,\,*654151# US\n\nJoin instructions\nhttps://us02web.zoom.us/meetings/82184903905/invitations?signature=zMEx0kMI0vz5KjUfkuZ5ooqTb4VLvGOv-sgIVMMCLpU\n\n\n\n------\n\nPowered by addevent.com \nShare your next event with us!\n
X-ALT-DESC;FMTTYPE=text/html:FutureGood is inviting you to a scheduled Zoom meeting.<br><br>Topic: Q&amp;A with Trista Harris: Trends in Mental Wellbeing<br />Time: Apr 22, 2026 02:00 PM Eastern Time (US and Canada)<br />Join Zoom Meeting<br />https://us02web.zoom.us/j/82184903905?pwd=VGFqWmat6LH3h2lQUDVX0V3GX3KDWh.1<br><br>Meeting ID: 821 8490 3905<br />Passcode: 654151<br><br>---<br><br>One tap mobile<br />+19292056099,,82184903905#,,,,*654151# US (New York)<br />+12532050468,,82184903905#,,,,*654151# US<br><br>Join instructions<br />https://us02web.zoom.us/meetings/82184903905/invitations?signature=zMEx0kMI0vz5KjUfkuZ5ooqTb4VLvGOv-sgIVMMCLpU<br><br><br /><br />------<br /><br />Powered by addevent.com <br>Share your next event with us!<br>
UID:1776797725addeventcom
SUMMARY:Q&As with Trista Harris: Tends in Mental Wellbeing
DTSTART;TZID=America/New_York:20260422T140000
DTEND;TZID=America/New_York:20260422T150000
DTSTAMP:20260421T185525Z
TRANSP:OPAQUE
STATUS:CONFIRMED
SEQUENCE:0
LOCATION:https://us02web.zoom.us/j/82184903905?pwd=VGFqWmat6LH3h2lQUDVX0V3GX3KDWh.1
X-MICROSOFT-CDO-BUSYSTATUS:BUSY
BEGIN:VALARM
TRIGGER:-PT30M
ACTION:DISPLAY
DESCRIPTION:Reminder
END:VALARM
END:VEVENT
END:VCALENDAR