BEGIN:VCALENDAR
PRODID:-//AddEvent Inc//AddEvent.com v1.7//EN
VERSION:2.0
BEGIN:VTIMEZONE
TZID:America/Puerto_Rico
BEGIN:STANDARD
DTSTART:19691231T200000
TZOFFSETFROM:-0400
TZOFFSETTO:-0400
TZNAME:AST
END:STANDARD
END:VTIMEZONE
BEGIN:VEVENT
UID:1776821988addeventcom
SUMMARY:Taller: Estrategias de Mercadeo Digital para OSFL: Google Ad Grants y Paid Media
DTSTART;TZID=America/Puerto_Rico:20260506T090000
DTEND;TZID=America/Puerto_Rico:20260506T130000
DTSTAMP:20260422T013948Z
TRANSP:OPAQUE
STATUS:CONFIRMED
SEQUENCE:0
LOCATION:https://goo.gl/maps/W37chxHWvrwwYGun9
X-MICROSOFT-CDO-BUSYSTATUS:BUSY
BEGIN:VALARM
TRIGGER:-PT1440M
ACTION:DISPLAY
DESCRIPTION:Reminder
END:VALARM
END:VEVENT
END:VCALENDAR