BEGIN:VCALENDAR
PRODID:-//AddEvent Inc//AddEvent.com v1.7//EN
VERSION:2.0
BEGIN:VTIMEZONE
TZID:America/Sao_Paulo
BEGIN:STANDARD
DTSTART:20190216T230000
TZOFFSETFROM:-0300
TZOFFSETTO:-0300
TZNAME:-03
END:STANDARD
END:VTIMEZONE
BEGIN:VEVENT
DESCRIPTION:Olá\,\n\nTemos uma novidade: a NORDICA traz ao Brasil o allmates\, plataforma com mais de 500 colegas de trabalho – Mates –  de IA prontos para uma nova forma de trabalhar.\n\nO allmates busca fortalecer o desempenho dos colaboradores com mais produtividade e inovação por meio dos Mates\, que podem apoiar em atividades críticas do dia a dia.\n\nPara apresentar essa novidade\, convidamos você para o webinar exclusivo:\n\n• Webinar “Descubra uma nova forma de trabalhar”\n• Data:  25/11\, às 10h - ao vivo\, online e gratuito\n\nAcesse este link no dia: https://us06web.zoom.us/j/83209083828 \n\nAté lá!\nallmates\, a nova forma de trabalhar com IA
X-ALT-DESC;FMTTYPE=text/html:Olá,<br><br>Temos uma novidade: a NORDICA traz ao Brasil o allmates, plataforma com mais de 500 colegas de trabalho – Mates –  de IA prontos para uma nova forma de trabalhar.<br><br>O allmates busca fortalecer o desempenho dos colaboradores com mais produtividade e inovação por meio dos Mates, que podem apoiar em atividades críticas do dia a dia.<br><br>Para apresentar essa novidade, convidamos você para o webinar exclusivo:<br /><ul style="list-style-type: disc;"><li>Webinar “Descubra uma nova forma de trabalhar”</li><li>Data:  25/11, às 10h - ao vivo, online e gratuito</li></ul>Acesse este link no dia: <a href="https://us06web.zoom.us/j/83209083828">https://us06web.zoom.us/j/83209083828</a> <br><br>Até lá!<br />allmates, a nova forma de trabalhar com IA
UID:1776857836addeventcom
SUMMARY:Webinar allmates\, a nova forma de trabalhar com IA
DTSTART;TZID=America/Sao_Paulo:20251125T100000
DTEND;TZID=America/Sao_Paulo:20251125T110000
DTSTAMP:20260422T113716Z
TRANSP:OPAQUE
STATUS:CONFIRMED
SEQUENCE:0
LOCATION:https://us06web.zoom.us/j/83209083828
X-MICROSOFT-CDO-BUSYSTATUS:BUSY
BEGIN:VALARM
TRIGGER:-PT15M
ACTION:DISPLAY
DESCRIPTION:Reminder
END:VALARM
END:VEVENT
END:VCALENDAR