BEGIN:VCALENDAR
PRODID:-//AddEvent Inc//AddEvent.com v1.7//EN
VERSION:2.0
BEGIN:VTIMEZONE
TZID:America/New_York
BEGIN:STANDARD
DTSTART:20261101T010000
RRULE:FREQ=YEARLY;BYDAY=1SU;BYMONTH=11
TZOFFSETFROM:-0400
TZOFFSETTO:-0500
TZNAME:EST
END:STANDARD
BEGIN:DAYLIGHT
DTSTART:20260308T030000
RRULE:FREQ=YEARLY;BYDAY=2SU;BYMONTH=3
TZOFFSETFROM:-0500
TZOFFSETTO:-0400
TZNAME:EDT
END:DAYLIGHT
END:VTIMEZONE
BEGIN:VEVENT
DESCRIPTION:We all have a responsibility to do something when we see street harassment happening\, but too often we freeze. We don’t know what to do. Bystander intervention gives us tools to intervene without compromising our own safety. When we intervene\, we don’t just reduce trauma for the person being harassed. We also start to chip away at the culture that allows harassment to be so prevalent. Alone we can’t shift the culture — but together — our actions matter. In this training the goal is to give participants the tools to intervene the next time they witness harassment in public spaces.\n\nThis training is lead by the non-profit Hollaback! (https://www.ihollaback.org/) This will equip you with the right information on how to be an effective bystander in the midst of public space harassment using their proven 5D’s methodology\, their five strategies for intervention. You will leave this training feeling more prepared to successfully and safely intervene.\n\nPlease register in advance for this webinar: https://zoom.us/webinar/register/WN_e-v4ifl9SLaj_-RzQXmf_A\n\nAfter registering\, you will receive a confirmation email containing information about joining the webinar\n\nThis program was made possible by New Hampshire Statewide Alumni Chapter\, the Inspiration Fund and Brother John Karasek.
X-ALT-DESC;FMTTYPE=text/html:We all have a responsibility to do something when we see street harassment happening, but too often we freeze. We don’t know what to do. Bystander intervention gives us tools to intervene without compromising our own safety. When we intervene, we don’t just reduce trauma for the person being harassed. We also start to chip away at the culture that allows harassment to be so prevalent. Alone we can’t shift the culture — but together — our actions matter. In this training the goal is to give participants the tools to intervene the next time they witness harassment in public spaces.<br />This training is lead by the non-profit Hollaback! (https://www.ihollaback.org/) This will equip you with the right information on how to be an effective bystander in the midst of public space harassment using their proven 5D’s methodology, their five strategies for intervention. You will leave this training feeling more prepared to successfully and safely intervene.<br />Please register in advance for this webinar: https://zoom.us/webinar/register/WN_e-v4ifl9SLaj_-RzQXmf_A<br />After registering, you will receive a confirmation email containing information about joining the webinar<br />This program was made possible by New Hampshire Statewide Alumni Chapter, the Inspiration Fund and Brother John Karasek.
UID:1777152120addeventcom
SUMMARY:Bystander Intervention in Public Spaces with Hollaback!
DTSTART;TZID=America/New_York:20220126T193000
DTEND;TZID=America/New_York:20220126T203000
DTSTAMP:20260425T212200Z
TRANSP:OPAQUE
STATUS:CONFIRMED
SEQUENCE:0
X-MICROSOFT-CDO-BUSYSTATUS:BUSY
BEGIN:VALARM
TRIGGER:-PT30M
ACTION:DISPLAY
DESCRIPTION:Reminder
END:VALARM
END:VEVENT
END:VCALENDAR