BEGIN:VCALENDAR
PRODID:-//AddEvent Inc//AddEvent.com v1.7//EN
VERSION:2.0
BEGIN:VTIMEZONE
TZID:Asia/Nicosia
BEGIN:STANDARD
DTSTART:20261025T030000
RRULE:FREQ=YEARLY;BYDAY=-1SU;BYMONTH=10
TZOFFSETFROM:+0300
TZOFFSETTO:+0200
TZNAME:EET
END:STANDARD
BEGIN:DAYLIGHT
DTSTART:20260329T040000
RRULE:FREQ=YEARLY;BYDAY=-1SU;BYMONTH=3
TZOFFSETFROM:+0200
TZOFFSETTO:+0300
TZNAME:EEST
END:DAYLIGHT
END:VTIMEZONE
BEGIN:VEVENT
DESCRIPTION:Η Σχολή Ανθρωπιστικών και Κοινωνικών Επιστημών και το Πρόγραμμα «Σπουδές στον Ελληνικό Πολιτισμό» του Ανοικτού Πανεπιστημίου Κύπρου (ΑΠΚΥ) διοργανώνουν την Παρασκευή 25 Νοεμβρίου 2022 (18:30 – 20:30) Φιλοσοφικό Colloquium με θέμα «Οι χρήσεις της ιστορίας»\, με τη συμμετοχή της Βάσως Κιντή και του Παναγιώτη Θανασά. Οι δύο ομιλητές\, Καθηγητές Φιλοσοφίας στο Εθνικό και Καποδιστριακό Πανεπιστήμιο Αθηνών (ΕΚΠΑ)\, θα κάνουν ημίωρες παρεμβάσεις για να ακολουθήσει συζήτηση. Το Colloquium που θα διεξαχθεί διαδικτυακά μέσω των εργαλείων τηλεκπαίδευσης του ΑΠΚΥ στον σύνδεσμο https://tinyurl.com/y4ss9nyr\, θα συντονίσει ο Καθηγητής Βυζαντινολογίας του ΑΠΚΥ Στέφανος Ευθυμιάδης.\n\n\n\n------\n\nPowered by addevent.com \nShare your next event with us!\n
X-ALT-DESC;FMTTYPE=text/html:Η Σχολή Ανθρωπιστικών και Κοινωνικών Επιστημών και το Πρόγραμμα «Σπουδές στον Ελληνικό Πολιτισμό» του Ανοικτού Πανεπιστημίου Κύπρου (ΑΠΚΥ) διοργανώνουν την <strong>Παρασκευή 25 Νοεμβρίου 2022 (18:30 – 20:30) </strong><strong>Φιλοσοφικό Colloquium με θέμα «Οι χρήσεις της ιστορίας»</strong>, με τη συμμετοχή της <strong>Βάσως Κιντή</strong> και του <strong>Παναγιώτη Θανασά.</strong> Οι δύο ομιλητές, Καθηγητές Φιλοσοφίας στο Εθνικό και Καποδιστριακό Πανεπιστήμιο Αθηνών (ΕΚΠΑ), θα κάνουν ημίωρες παρεμβάσεις για να ακολουθήσει συζήτηση. Το Colloquium που θα διεξαχθεί διαδικτυακά μέσω των εργαλείων τηλεκπαίδευσης του ΑΠΚΥ στον σύνδεσμο <a href="https://tinyurl.com/y4ss9nyr">https://tinyurl.com/y4ss9nyr</a>, θα συντονίσει ο Καθηγητής Βυζαντινολογίας του ΑΠΚΥ Στέφανος Ευθυμιάδης.<br /><div><div><div style="background-image: url("><br /></div><div style="width: 300px; height: 200px; top: 0px; left: 0px; font-size: 13px;"><div style="overflow: hidden;"><div draggable="true"><br /></div><div><p dir="auto"><br /></p><p dir="auto"><br /></p></div></div></div></div></div><br /><br />------<br /><br />Powered by addevent.com <br>Share your next event with us!<br>
UID:1776974441addeventcom
SUMMARY:Φιλοσοφικό Colloquium: «Οι Χρήσεις της Ιστορίας»
DTSTART;TZID=Asia/Nicosia:20221125T183000
DTEND;TZID=Asia/Nicosia:20221125T203000
DTSTAMP:20260423T200041Z
TRANSP:OPAQUE
STATUS:CONFIRMED
SEQUENCE:0
LOCATION:Online
X-MICROSOFT-CDO-BUSYSTATUS:BUSY
BEGIN:VALARM
TRIGGER:-PT120M
ACTION:DISPLAY
DESCRIPTION:Reminder
END:VALARM
END:VEVENT
END:VCALENDAR