BEGIN:VCALENDAR
PRODID:-//AddEvent Inc//AddEvent.com v1.7//EN
VERSION:2.0
BEGIN:VTIMEZONE
TZID:America/New_York
BEGIN:STANDARD
DTSTART:20261101T010000
RRULE:FREQ=YEARLY;BYDAY=1SU;BYMONTH=11
TZOFFSETFROM:-0400
TZOFFSETTO:-0500
TZNAME:EST
END:STANDARD
BEGIN:DAYLIGHT
DTSTART:20260308T030000
RRULE:FREQ=YEARLY;BYDAY=2SU;BYMONTH=3
TZOFFSETFROM:-0500
TZOFFSETTO:-0400
TZNAME:EDT
END:DAYLIGHT
END:VTIMEZONE
BEGIN:VEVENT
DESCRIPTION:The Cooling and Manipulation of Ultra-cold atoms.\n \nUltra-cold atoms have been used to simulate phenomena in condensed matter physics as well as in cosmology such as black holes. In this talk\, we will give an overview of the field of Ultra-cold atoms by discussing the physics behind the cooling and the manipulation of these atoms. Aimed to show the beautiful physics behind this process\, this talk would be easy and general\, requiring just an undergraduate level of physics understanding.
X-ALT-DESC;FMTTYPE=text/html:<strong>The Cooling and Manipulation of Ultra-cold atoms.</strong><br /> <br />Ultra-cold atoms have been used to simulate phenomena in condensed matter physics as well as in cosmology such as black holes. In this talk, we will give an overview of the field of Ultra-cold atoms by discussing the physics behind the cooling and the manipulation of these atoms. Aimed to show the beautiful physics behind this process, this talk would be easy and general, requiring just an undergraduate level of physics understanding.
UID:1776809288addeventcom
SUMMARY:IQC Student Seminar Featuring Omar Hussein
DTSTART;TZID=America/New_York:20230620T120000
DTEND;TZID=America/New_York:20230620T130000
DTSTAMP:20260421T220808Z
TRANSP:OPAQUE
STATUS:CONFIRMED
SEQUENCE:0
LOCATION:QNC 1201
X-MICROSOFT-CDO-BUSYSTATUS:BUSY
BEGIN:VALARM
TRIGGER:-PT30M
ACTION:DISPLAY
DESCRIPTION:Reminder
END:VALARM
END:VEVENT
END:VCALENDAR