BEGIN:VCALENDAR
PRODID:-//AddEvent Inc//AddEvent.com v1.7//EN
VERSION:2.0
BEGIN:VTIMEZONE
TZID:America/Chicago
BEGIN:STANDARD
DTSTART:20261101T010000
RRULE:FREQ=YEARLY;BYDAY=1SU;BYMONTH=11
TZOFFSETFROM:-0500
TZOFFSETTO:-0600
TZNAME:CST
END:STANDARD
BEGIN:DAYLIGHT
DTSTART:20260308T030000
RRULE:FREQ=YEARLY;BYDAY=2SU;BYMONTH=3
TZOFFSETFROM:-0600
TZOFFSETTO:-0500
TZNAME:CDT
END:DAYLIGHT
END:VTIMEZONE
BEGIN:VEVENT
DESCRIPTION:This presentation will elevate physician awareness around the key messages that define Precision Shock Technology: voltage and current\, not joules\, are what defibrillate\, and our devices provide the highest voltage. Without defibrillation threshold testing trust is put in the device to work the first-time. Our higher out-of-the-box voltage provides a crucial safety net.
X-ALT-DESC;FMTTYPE=text/html:This presentation will elevate physician awareness around the key messages that define Precision Shock Technology: voltage and current, not joules, are what defibrillate, and our devices provide the highest voltage. Without defibrillation threshold testing trust is put in the device to work the first-time. Our higher out-of-the-box voltage provides a crucial safety net.
UID:1776764421addeventcom
SUMMARY:How Voltage Impacts Defibrillation Success
DTSTART;TZID=America/Chicago:20260425T100000
DTEND;TZID=America/Chicago:20260425T102000
DTSTAMP:20260421T094021Z
TRANSP:OPAQUE
STATUS:CONFIRMED
SEQUENCE:0
LOCATION:In-Booth Presentation
X-MICROSOFT-CDO-BUSYSTATUS:BUSY
BEGIN:VALARM
TRIGGER:-PT30M
ACTION:DISPLAY
DESCRIPTION:Reminder
END:VALARM
END:VEVENT
END:VCALENDAR