BEGIN:VCALENDAR
PRODID:-//AddEvent Inc//AddEvent.com v1.7//EN
VERSION:2.0
BEGIN:VTIMEZONE
TZID:America/New_York
BEGIN:STANDARD
DTSTART:20261101T010000
RRULE:FREQ=YEARLY;BYDAY=1SU;BYMONTH=11
TZOFFSETFROM:-0400
TZOFFSETTO:-0500
TZNAME:EST
END:STANDARD
BEGIN:DAYLIGHT
DTSTART:20260308T030000
RRULE:FREQ=YEARLY;BYDAY=2SU;BYMONTH=3
TZOFFSETFROM:-0500
TZOFFSETTO:-0400
TZNAME:EDT
END:DAYLIGHT
END:VTIMEZONE
BEGIN:VEVENT
DESCRIPTION:Come on out to the ball game! Join Fivetran and phData for an evening of baseball and data on May 24 2023. Watch the Washington Nationals take on the San Diego Padres in style in our private VIP suite. \n\nEnjoy food and drinks on us\, and mingle with other baseball and data fanatics.\n\nGame starts at 7:05pm but doors open at 5:30pm. See you on the field!\n\n
X-ALT-DESC;FMTTYPE=text/html:Come on out to the ball game! Join Fivetran and phData for an evening of baseball and data on May 24 2023. Watch the Washington Nationals take on the San Diego Padres in style in our private VIP suite. <br><br>Enjoy food and drinks on us, and mingle with other baseball and data fanatics.<br><br>Game starts at 7:05pm but doors open at 5:30pm. See you on the field!<br><br>
UID:1776797305addeventcom
SUMMARY:Play Ball with Fivetran and phData: Nationals vs Padres VIP Suite
DTSTART;TZID=America/New_York:20230524T190500
DTEND;TZID=America/New_York:20230524T220500
DTSTAMP:20260421T184825Z
TRANSP:OPAQUE
STATUS:CONFIRMED
SEQUENCE:0
LOCATION:1500 S Capitol St SE\, Washington\, DC 20003
X-MICROSOFT-CDO-BUSYSTATUS:BUSY
BEGIN:VALARM
TRIGGER:-PT30M
ACTION:DISPLAY
DESCRIPTION:Reminder
END:VALARM
END:VEVENT
END:VCALENDAR