BEGIN:VCALENDAR
PRODID:-//AddEvent Inc//AddEvent.com v1.7//EN
VERSION:2.0
BEGIN:VTIMEZONE
TZID:Europe/Zurich
BEGIN:STANDARD
DTSTART:20261025T020000
RRULE:FREQ=YEARLY;BYDAY=-1SU;BYMONTH=10
TZOFFSETFROM:+0200
TZOFFSETTO:+0100
TZNAME:CET
END:STANDARD
BEGIN:DAYLIGHT
DTSTART:20260329T030000
RRULE:FREQ=YEARLY;BYDAY=-1SU;BYMONTH=3
TZOFFSETFROM:+0100
TZOFFSETTO:+0200
TZNAME:CEST
END:DAYLIGHT
END:VTIMEZONE
BEGIN:VEVENT
DESCRIPTION:This event\, taking place on 2 December 2021 in Brussels\, marks the publication of the report of the EASL-Lancet Commission on liver disease\, a culmination of many years of collaboration together with a new momentum toward its solid implementation. The discussion will engage commissioners (contributors to the report)\, other high-level actors and experts from the European institutions and patients’ representative. Key topics of the report will be discussed\, as well as how the European Union policy and funding initiatives can support both the recommendations and application of good practices throughout the EU.
X-ALT-DESC;FMTTYPE=text/html:This event, taking place on 2 December 2021 in Brussels, marks the publication of the report of the EASL-Lancet Commission on liver disease, a culmination of many years of collaboration together with a new momentum toward its solid implementation. The discussion will engage commissioners (contributors to the report), other high-level actors and experts from the European institutions and patients’ representative. Key topics of the report will be discussed, as well as how the European Union policy and funding initiatives can support both the recommendations and application of good practices throughout the EU.
UID:1776697081addeventcom
SUMMARY:EASL-Lancet Commission: Protecting the next generation of Europeans against liver disease complications and premature mortality
DTSTART;TZID=Europe/Zurich:20211202T120000
DTEND;TZID=Europe/Zurich:20211202T140000
DTSTAMP:20260420T145801Z
TRANSP:OPAQUE
STATUS:CONFIRMED
SEQUENCE:0
LOCATION:https://easl-eu.zoom.us/webinar/register/WN_CdOv8rxJRDm1nfm-ybY6dg
X-MICROSOFT-CDO-BUSYSTATUS:BUSY
BEGIN:VALARM
TRIGGER:-PT60M
ACTION:DISPLAY
DESCRIPTION:Reminder
END:VALARM
END:VEVENT
END:VCALENDAR