BEGIN:VCALENDAR
PRODID:-//AddEvent Inc//AddEvent.com v1.7//EN
VERSION:2.0
BEGIN:VTIMEZONE
TZID:Europe/Paris
BEGIN:STANDARD
DTSTART:20261025T020000
RRULE:FREQ=YEARLY;BYDAY=-1SU;BYMONTH=10
TZOFFSETFROM:+0200
TZOFFSETTO:+0100
TZNAME:CET
END:STANDARD
BEGIN:DAYLIGHT
DTSTART:20260329T030000
RRULE:FREQ=YEARLY;BYDAY=-1SU;BYMONTH=3
TZOFFSETFROM:+0100
TZOFFSETTO:+0200
TZNAME:CEST
END:DAYLIGHT
END:VTIMEZONE
BEGIN:VEVENT
DESCRIPTION:Seminar URL: https://www.pianogroove.com/live-seminars/eddie-higgins-over-the-rainbow/ \n\nIn this seminar we study Eddie's arrangement of the tune "Over The Rainbow" examining his voicings\, fills\, and reharmonisations. 
X-ALT-DESC;FMTTYPE=text/html:Seminar URL: <a href="https://www.pianogroove.com/live-seminars/eddie-higgins-over-the-rainbow/">https://www.pianogroove.com/live-seminars/eddie-higgins-over-the-rainbow/</a> <br><br>In this seminar we study Eddie's arrangement of the tune "Over The Rainbow" examining his voicings, fills, and reharmonisations. 
UID:1776930297addeventcom
SUMMARY:Eddie Higgins: Over The Rainbow
DTSTART;TZID=Europe/Paris:20220726T180000
DTEND;TZID=Europe/Paris:20220726T190000
DTSTAMP:20260423T074457Z
TRANSP:OPAQUE
STATUS:CONFIRMED
SEQUENCE:0
LOCATION:https://www.pianogroove.com/live-seminars/eddie-higgins-over-the-rainbow/
X-MICROSOFT-CDO-BUSYSTATUS:BUSY
BEGIN:VALARM
TRIGGER:-PT30M
ACTION:DISPLAY
DESCRIPTION:Reminder
END:VALARM
END:VEVENT
END:VCALENDAR