BEGIN:VCALENDAR
PRODID:-//AddEvent Inc//AddEvent.com v1.7//EN
VERSION:2.0
BEGIN:VTIMEZONE
TZID:America/New_York
BEGIN:STANDARD
DTSTART:20261101T010000
RRULE:FREQ=YEARLY;BYDAY=1SU;BYMONTH=11
TZOFFSETFROM:-0400
TZOFFSETTO:-0500
TZNAME:EST
END:STANDARD
BEGIN:DAYLIGHT
DTSTART:20260308T030000
RRULE:FREQ=YEARLY;BYDAY=2SU;BYMONTH=3
TZOFFSETFROM:-0500
TZOFFSETTO:-0400
TZNAME:EDT
END:DAYLIGHT
END:VTIMEZONE
BEGIN:VEVENT
DESCRIPTION:WBL & Busboys And Poets monthly youth open mic and poetry slam hosted by Glo Shines and Blackpicasso. RSVP to attend and register to perform on eventbrite https://www.eventbrite.com/e/slamtastic-1st-saturdays-hosted-by-words-beats-life-tickets-658543891507?aff=oddtdtcreator\n\nhttps://www.eventbrite.com/e/slamtastic-1st-saturdays-hosted-by-words-beats-life-tickets-658543891507?aff=oddtdtcreator\n\n------\n\nPowered by addevent.com \nShare your next event with us!\n
X-ALT-DESC;FMTTYPE=text/html:WBL &amp; Busboys And Poets monthly youth open mic and poetry slam hosted by Glo Shines and Blackpicasso. RSVP to attend and register to perform on <a href="https://www.eventbrite.com/e/slamtastic-1st-saturdays-hosted-by-words-beats-life-tickets-658543891507?aff=oddtdtcreator">eventbrite</a><br><br><a data-fr-linked="true" href="https://www.eventbrite.com/e/slamtastic-1st-saturdays-hosted-by-words-beats-life-tickets-658543891507?aff=oddtdtcreator">https://www.eventbrite.com/e/slamtastic-1st-saturdays-hosted-by-words-beats-life-tickets-658543891507?aff=oddtdtcreator</a><br /><br />------<br /><br />Powered by addevent.com <br>Share your next event with us!<br>
UID:1776886179addeventcom
SUMMARY:Slamtastic youth open mic & poetry slam
DTSTART;TZID=America/New_York:20240601T190000
DTEND;TZID=America/New_York:20240601T210000
DTSTAMP:20260422T192939Z
TRANSP:OPAQUE
STATUS:CONFIRMED
SEQUENCE:0
LOCATION:2021 14th St NW\, Washington\, 20009\, DC\, USA
RRULE:FREQ=MONTHLY;COUNT=12;BYDAY=1SA
X-MICROSOFT-CDO-BUSYSTATUS:BUSY
BEGIN:VALARM
TRIGGER:-PT30M
ACTION:DISPLAY
DESCRIPTION:Reminder
END:VALARM
END:VEVENT
END:VCALENDAR