BEGIN:VCALENDAR
PRODID:-//AddEvent Inc//AddEvent.com v1.7//EN
VERSION:2.0
BEGIN:VTIMEZONE
TZID:America/New_York
BEGIN:STANDARD
DTSTART:20261101T010000
RRULE:FREQ=YEARLY;BYDAY=1SU;BYMONTH=11
TZOFFSETFROM:-0400
TZOFFSETTO:-0500
TZNAME:EST
END:STANDARD
BEGIN:DAYLIGHT
DTSTART:20260308T030000
RRULE:FREQ=YEARLY;BYDAY=2SU;BYMONTH=3
TZOFFSETFROM:-0500
TZOFFSETTO:-0400
TZNAME:EDT
END:DAYLIGHT
END:VTIMEZONE
BEGIN:VEVENT
DESCRIPTION:FutureGood is inviting you to a scheduled Zoom meeting.\n\nTopic: Q&As with Trista Harris: Future of DEI\nTime: May 14\, 2026 01:00 PM Eastern Time (US and Canada)\nJoin Zoom Meeting\nhttps://us02web.zoom.us/j/89784607672?pwd=IVCt2yig2TIphUIIMgRhnenYQCfbKT.1\n\nView meeting insights with Zoom AI Companion\nhttps://us02web.zoom.us/launch/edl?muid=156bb6d2-acce-40a8-ae34-b169127ba8b0\n\nMeeting ID: 897 8460 7672\nPasscode: i?HP%7\n\n---\n\nOne tap mobile\n+17193594580\,\,89784607672#\,\,\,\,*556244# US\n+19292056099\,\,89784607672#\,\,\,\,*556244# US (New York)\n\nJoin instructions\nhttps://us02web.zoom.us/meetings/89784607672/invitations?signature=2fI1v4UwR2VHyKC3sQo4gTJlQA5v5iDEFQPx3JP69V4\n\n\n\n------\n\nPowered by addevent.com \nShare your next event with us!\n
X-ALT-DESC;FMTTYPE=text/html:FutureGood is inviting you to a scheduled Zoom meeting.<br><br>Topic: Q&amp;As with Trista Harris: Future of DEI<br />Time: May 14, 2026 01:00 PM Eastern Time (US and Canada)<br />Join Zoom Meeting<br />https://us02web.zoom.us/j/89784607672?pwd=IVCt2yig2TIphUIIMgRhnenYQCfbKT.1<br><br>View meeting insights with Zoom AI Companion<br />https://us02web.zoom.us/launch/edl?muid=156bb6d2-acce-40a8-ae34-b169127ba8b0<br><br>Meeting ID: 897 8460 7672<br />Passcode: i?HP%7<br><br>---<br><br>One tap mobile<br />+17193594580,,89784607672#,,,,*556244# US<br />+19292056099,,89784607672#,,,,*556244# US (New York)<br><br>Join instructions<br />https://us02web.zoom.us/meetings/89784607672/invitations?signature=2fI1v4UwR2VHyKC3sQo4gTJlQA5v5iDEFQPx3JP69V4<br><br><br /><br />------<br /><br />Powered by addevent.com <br>Share your next event with us!<br>
UID:1776797998addeventcom
SUMMARY:Q&As with Trista Harris: Future of DEI
DTSTART;TZID=America/New_York:20260514T130000
DTEND;TZID=America/New_York:20260514T140000
DTSTAMP:20260421T185958Z
TRANSP:OPAQUE
STATUS:CONFIRMED
SEQUENCE:0
LOCATION:https://us02web.zoom.us/j/89784607672?pwd=IVCt2yig2TIphUIIMgRhnenYQCfbKT.1
X-MICROSOFT-CDO-BUSYSTATUS:BUSY
BEGIN:VALARM
TRIGGER:-PT30M
ACTION:DISPLAY
DESCRIPTION:Reminder
END:VALARM
END:VEVENT
END:VCALENDAR