BEGIN:VCALENDAR
PRODID:-//AddEvent Inc//AddEvent.com v1.7//EN
VERSION:2.0
BEGIN:VTIMEZONE
TZID:Europe/Paris
BEGIN:STANDARD
DTSTART:20261025T020000
RRULE:FREQ=YEARLY;BYDAY=-1SU;BYMONTH=10
TZOFFSETFROM:+0200
TZOFFSETTO:+0100
TZNAME:CET
END:STANDARD
BEGIN:DAYLIGHT
DTSTART:20260329T030000
RRULE:FREQ=YEARLY;BYDAY=-1SU;BYMONTH=3
TZOFFSETFROM:+0100
TZOFFSETTO:+0200
TZNAME:CEST
END:DAYLIGHT
END:VTIMEZONE
BEGIN:VEVENT
DESCRIPTION:Exploring tactics and agenda points to make renewables relevant to journalists\n\nThis event will include brief presentations followed by a panel discussion and will also include small group discussions. Come prepared to network and have engaging dialogues!\n\nConfirmed Speakers: \n\n- Usman Shehu\, Journalist\, Deutsche Welle Africa & Koode Radio International \n\n- Michael Buchsbaum\, Journalist\, Buchsbaum Media \n\n- Aarti Khosla\, Founder/Director\, Carb \n\n- Mai Hoang\, Southeast Asia Lead\, Climate Tracker\n\nHow to connect:\n\nOn 11 March\, use this link to connect: https://www.ren21.net/2021-march-rendez-vous/\n\nNOTE: Until then\, this link will send you to the REN21 website. \n\nFor additional details about the event and the online event platform\, please visit https://www.ren21.net/2021-rendez-vous-media/\n\nWhat is a RENdez-vous?\n\nREN21 hosts these events to inspire and offer opportunities to learn and share across sectors and topics. While each event is unique\, one thing remains consistent: at every RENdez-vous there will be time to meet and network with people from the greater renewables community\, inclusive of many different sectors.\n\nQuestions:\n\nContact community@ren21.net with any questions. We'd be happy to be in contact with you.
X-ALT-DESC;FMTTYPE=text/html:Exploring tactics and agenda points to make renewables relevant to journalists<br><br>This event will include brief presentations followed by a panel discussion and will also include small group discussions. Come prepared to network and have engaging dialogues!<br><br>Confirmed Speakers: <br />- Usman Shehu, Journalist, Deutsche Welle Africa &amp; Koode Radio International <br />- Michael Buchsbaum, Journalist, Buchsbaum Media <br />- Aarti Khosla, Founder/Director, Carb <br />- Mai Hoang, Southeast Asia Lead, Climate Tracker<br><br>How to connect:<br />On 11 March, use this link to connect: https://www.ren21.net/2021-march-rendez-vous/<br />NOTE: Until then, this link will send you to the REN21 website. <br><br>For additional details about the event and the online event platform, please visit https://www.ren21.net/2021-rendez-vous-media/<br><br>What is a RENdez-vous?<br />REN21 hosts these events to inspire and offer opportunities to learn and share across sectors and topics. While each event is unique, one thing remains consistent: at every RENdez-vous there will be time to meet and network with people from the greater renewables community, inclusive of many different sectors.<br><br>Questions:<br />Contact community@ren21.net with any questions. We'd be happy to be in contact with you.
UID:1776737644addeventcom
SUMMARY:RENdez-vous: Working with the Media
DTSTART;TZID=Europe/Paris:20210311T140000
DTEND;TZID=Europe/Paris:20210311T153000
DTSTAMP:20260421T021404Z
TRANSP:OPAQUE
STATUS:CONFIRMED
SEQUENCE:0
LOCATION:Online
X-MICROSOFT-CDO-BUSYSTATUS:BUSY
BEGIN:VALARM
TRIGGER:-PT30M
ACTION:DISPLAY
DESCRIPTION:Reminder
END:VALARM
END:VEVENT
END:VCALENDAR