BEGIN:VCALENDAR
PRODID:-//AddEvent Inc//AddEvent.com v1.7//EN
VERSION:2.0
BEGIN:VTIMEZONE
TZID:America/New_York
BEGIN:STANDARD
DTSTART:20261101T010000
RRULE:FREQ=YEARLY;BYDAY=1SU;BYMONTH=11
TZOFFSETFROM:-0400
TZOFFSETTO:-0500
TZNAME:EST
END:STANDARD
BEGIN:DAYLIGHT
DTSTART:20260308T030000
RRULE:FREQ=YEARLY;BYDAY=2SU;BYMONTH=3
TZOFFSETFROM:-0500
TZOFFSETTO:-0400
TZNAME:EDT
END:DAYLIGHT
END:VTIMEZONE
BEGIN:VEVENT
DESCRIPTION:Join Zoom Meeting\nhttps://us02web.zoom.us/meeting/register/8xqhXYavR9eedvoAIcL_Sw \n\nFull details: http://class.lifehackmethod.com/\n\n
X-ALT-DESC;FMTTYPE=text/html:Join Zoom Meeting<br /><a href="https://us02web.zoom.us/meeting/register/8xqhXYavR9eedvoAIcL_Sw">https://us02web.zoom.us/meeting/register/8xqhXYavR9eedvoAIcL_Sw</a> <br><br>Full details: http://class.lifehackmethod.com/<br><br>
UID:1776969571addeventcom
SUMMARY:Winning the Week Live Masterclass
DTSTART;TZID=America/New_York:20260501T130000
DTEND;TZID=America/New_York:20260501T143000
DTSTAMP:20260423T183931Z
TRANSP:OPAQUE
STATUS:CONFIRMED
SEQUENCE:0
LOCATION:Zoom
X-MICROSOFT-CDO-BUSYSTATUS:BUSY
BEGIN:VALARM
TRIGGER:-PT30M
ACTION:DISPLAY
DESCRIPTION:Reminder
END:VALARM
END:VEVENT
END:VCALENDAR