BEGIN:VCALENDAR
PRODID:-//AddEvent Inc//AddEvent.com v1.7//EN
VERSION:2.0
BEGIN:VTIMEZONE
TZID:America/New_York
BEGIN:STANDARD
DTSTART:20261101T010000
RRULE:FREQ=YEARLY;BYDAY=1SU;BYMONTH=11
TZOFFSETFROM:-0400
TZOFFSETTO:-0500
TZNAME:EST
END:STANDARD
BEGIN:DAYLIGHT
DTSTART:20260308T030000
RRULE:FREQ=YEARLY;BYDAY=2SU;BYMONTH=3
TZOFFSETFROM:-0500
TZOFFSETTO:-0400
TZNAME:EDT
END:DAYLIGHT
END:VTIMEZONE
BEGIN:VEVENT
DESCRIPTION:Emotional Resilience  with Dr William Jackson\n\nMonday\, October 10 · 8:00 – 9:00pm EDT\n\nGoogle Meet joining info\n\nVideo call link: https://meet.google.com/jhv-zuom-dfo\n\nOr dial: ‪(US) +1 559-931-1763‬ PIN: ‪495 913 609‬#\n\nMore phone numbers: https://tel.meet/jhv-zuom-dfo?pin=4203278258395\n\n------\n\nPowered by addevent.com \nShare your next event with us!\n
X-ALT-DESC;FMTTYPE=text/html:Emotional Resilience  with Dr William Jackson<br><br>Monday, October 10 · 8:00 – 9:00pm EDT<br><br>Google Meet joining info<br><br>Video call link: https://meet.google.com/jhv-zuom-dfo<br><br>Or dial: ‪(US) +1 559-931-1763‬ PIN: ‪495 913 609‬#<br><br>More phone numbers: https://tel.meet/jhv-zuom-dfo?pin=4203278258395<br /><br />------<br /><br />Powered by addevent.com <br>Share your next event with us!<br>
UID:1777132485addeventcom
SUMMARY:Emotional Resilience Training
DTSTART;TZID=America/New_York:20221010T200000
DTEND;TZID=America/New_York:20221010T210000
DTSTAMP:20260425T155445Z
TRANSP:OPAQUE
STATUS:CONFIRMED
SEQUENCE:0
LOCATION:https://meet.google.com/jhv-zuom-dfo
X-MICROSOFT-CDO-BUSYSTATUS:BUSY
END:VEVENT
END:VCALENDAR